BEGIN:VCALENDAR
VERSION:2.0
PRODID:-//Mallow Run Winery - ECPv6.15.17.1//NONSGML v1.0//EN
CALSCALE:GREGORIAN
METHOD:PUBLISH
X-ORIGINAL-URL:https://www.mallowrun.com
X-WR-CALDESC:Events for Mallow Run Winery
REFRESH-INTERVAL;VALUE=DURATION:PT1H
X-Robots-Tag:noindex
X-PUBLISHED-TTL:PT1H
BEGIN:VTIMEZONE
TZID:America/Indiana/Indianapolis
BEGIN:DAYLIGHT
TZOFFSETFROM:-0500
TZOFFSETTO:-0400
TZNAME:EDT
DTSTART:20230312T070000
END:DAYLIGHT
BEGIN:STANDARD
TZOFFSETFROM:-0400
TZOFFSETTO:-0500
TZNAME:EST
DTSTART:20231105T060000
END:STANDARD
BEGIN:DAYLIGHT
TZOFFSETFROM:-0500
TZOFFSETTO:-0400
TZNAME:EDT
DTSTART:20240310T070000
END:DAYLIGHT
BEGIN:STANDARD
TZOFFSETFROM:-0400
TZOFFSETTO:-0500
TZNAME:EST
DTSTART:20241103T060000
END:STANDARD
BEGIN:DAYLIGHT
TZOFFSETFROM:-0500
TZOFFSETTO:-0400
TZNAME:EDT
DTSTART:20250309T070000
END:DAYLIGHT
BEGIN:STANDARD
TZOFFSETFROM:-0400
TZOFFSETTO:-0500
TZNAME:EST
DTSTART:20251102T060000
END:STANDARD
END:VTIMEZONE
BEGIN:VEVENT
DTSTART;TZID=America/Indiana/Indianapolis:20240629T190000
DTEND;TZID=America/Indiana/Indianapolis:20240629T220000
DTSTAMP:20260421T080803
CREATED:20240315T191736Z
LAST-MODIFIED:20240628T171352Z
UID:10000095-1719687600-1719698400@www.mallowrun.com
SUMMARY:2024 Picnic Concert Series: Hairbangers Ball
DESCRIPTION:Hairbangers Ball\nThe ultimate tribute to 80s Hair Rock.\nlive on the lawn at Mallow Run Winery \nSaturday\, June 29th at 7pm\nGates open by 5:30pm | Music begins at 7pm \nConcert is rain or shine. In the event of dangerous weather conditions the concert may be cancelled and your ticket will be applicable to another ticketed concert in the 2024 Picnic Concert Series. Please keep an eye on social media & our website on the day of the event for the most updated concert status. \nTickets $15 in advance / $20 day of show\nKids 12 & under are free\n \nPURCHASE TICKETS BELOW \nAdvance ticket sales end around 6pm on Friday\, June 28th! \nMusic on the Patio 12-3pm: Craig Thurston\nFood Trucks Scheduled to Attend: \nChompz\nSons KettleKorn\nParty Chef\nMoBowl\nQueso’s\nBoxburger\nAlley Cat Street Food\nKona Ice \n\nPart of the Ray Skillman Southside Hyundai 2024 Picnic Concert Series presented by Cardon & Associates\, Duke Homes\, Franciscan Alliance\, Greenwood City Lifestyle\, Hensley Legal Group\, Horizon Bank\, JC Fiber\, Steve’s Flowers\, and Sunbelt Rentals \nFind the full 2024 Picnic Concert Series Schedule HERE!
URL:https://www.mallowrun.com/event/2024-picnic-concert-series-hairbangers-ball/
LOCATION:Mallow Run Winery\, 6964 West Whiteland Road\, Bargersville\, IN\, 46106-9199
CATEGORIES:2024 Picnic Concert Series,June
ATTACH;FMTTYPE=image/jpeg:https://www.mallowrun.com/wp-content/uploads/2024/02/Hairbangers-Ball-Band-Photo-02.jpg
END:VEVENT
END:VCALENDAR