BEGIN:VCALENDAR
VERSION:2.0
PRODID:-//Mallow Run Winery - ECPv6.15.17.1//NONSGML v1.0//EN
CALSCALE:GREGORIAN
METHOD:PUBLISH
X-WR-CALNAME:Mallow Run Winery
X-ORIGINAL-URL:https://www.mallowrun.com
X-WR-CALDESC:Events for Mallow Run Winery
REFRESH-INTERVAL;VALUE=DURATION:PT1H
X-Robots-Tag:noindex
X-PUBLISHED-TTL:PT1H
BEGIN:VTIMEZONE
TZID:America/Indiana/Indianapolis
BEGIN:DAYLIGHT
TZOFFSETFROM:-0500
TZOFFSETTO:-0400
TZNAME:EDT
DTSTART:20230312T070000
END:DAYLIGHT
BEGIN:STANDARD
TZOFFSETFROM:-0400
TZOFFSETTO:-0500
TZNAME:EST
DTSTART:20231105T060000
END:STANDARD
BEGIN:DAYLIGHT
TZOFFSETFROM:-0500
TZOFFSETTO:-0400
TZNAME:EDT
DTSTART:20240310T070000
END:DAYLIGHT
BEGIN:STANDARD
TZOFFSETFROM:-0400
TZOFFSETTO:-0500
TZNAME:EST
DTSTART:20241103T060000
END:STANDARD
BEGIN:DAYLIGHT
TZOFFSETFROM:-0500
TZOFFSETTO:-0400
TZNAME:EDT
DTSTART:20250309T070000
END:DAYLIGHT
BEGIN:STANDARD
TZOFFSETFROM:-0400
TZOFFSETTO:-0500
TZNAME:EST
DTSTART:20251102T060000
END:STANDARD
END:VTIMEZONE
BEGIN:VEVENT
DTSTART;TZID=America/Indiana/Indianapolis:20240901T120000
DTEND;TZID=America/Indiana/Indianapolis:20240901T180000
DTSTAMP:20260421T125645
CREATED:20240315T191343Z
LAST-MODIFIED:20240828T142331Z
UID:10000105-1725192000-1725213600@www.mallowrun.com
SUMMARY:19th Anniversary Festival: Indy Annies
DESCRIPTION:SUNDAY\, SEPTEMBER 1st \nCelebrate 19 years of food\, music\, & wine on the lawn! Food trucks will also be lined up outside the tasting room offering a variety of delicious mobile eats. \nConcert on the Lawn 1-4pm: Indy Annies\nFree admission. Family friendly; all ages welcome! Wine tasting available until 6pm. Wine available for purchase by the glass or bottle. All beer and non-Mallow Run alcohol STRICTLY PROHIBITED by Indiana law. Thank you for drinking responsibly! \nFood Trucks Scheduled to Attend: TBD\n\nPart of the Ray Skillman Southside Hyundai 2024 Picnic Concert Series presented by Cardon & Associates\, Duke Homes\, Franciscan Alliance\, Greenwood City Lifestyle\, Hensley Legal Group\, Horizon Bank\, JC Fiber\, Steve’s Flowers\, and Sunbelt Rentals \nFind the full 2024 Picnic Concert Series Schedule HERE!
URL:https://www.mallowrun.com/event/19th-anniversary-festival-indy-annies/
LOCATION:Mallow Run Winery\, 6964 West Whiteland Road\, Bargersville\, IN\, 46106-9199
CATEGORIES:2024 Picnic Concert Series,September
ATTACH;FMTTYPE=image/webp:https://www.mallowrun.com/wp-content/uploads/2024/03/indyannies.webp
END:VEVENT
END:VCALENDAR