BEGIN:VCALENDAR
VERSION:2.0
PRODID:-//Mallow Run Winery - ECPv6.15.17.1//NONSGML v1.0//EN
CALSCALE:GREGORIAN
METHOD:PUBLISH
X-WR-CALNAME:Mallow Run Winery
X-ORIGINAL-URL:https://www.mallowrun.com
X-WR-CALDESC:Events for Mallow Run Winery
REFRESH-INTERVAL;VALUE=DURATION:PT1H
X-Robots-Tag:noindex
X-PUBLISHED-TTL:PT1H
BEGIN:VTIMEZONE
TZID:America/Indiana/Indianapolis
BEGIN:DAYLIGHT
TZOFFSETFROM:-0500
TZOFFSETTO:-0400
TZNAME:EDT
DTSTART:20230312T070000
END:DAYLIGHT
BEGIN:STANDARD
TZOFFSETFROM:-0400
TZOFFSETTO:-0500
TZNAME:EST
DTSTART:20231105T060000
END:STANDARD
BEGIN:DAYLIGHT
TZOFFSETFROM:-0500
TZOFFSETTO:-0400
TZNAME:EDT
DTSTART:20240310T070000
END:DAYLIGHT
BEGIN:STANDARD
TZOFFSETFROM:-0400
TZOFFSETTO:-0500
TZNAME:EST
DTSTART:20241103T060000
END:STANDARD
BEGIN:DAYLIGHT
TZOFFSETFROM:-0500
TZOFFSETTO:-0400
TZNAME:EDT
DTSTART:20250309T070000
END:DAYLIGHT
BEGIN:STANDARD
TZOFFSETFROM:-0400
TZOFFSETTO:-0500
TZNAME:EST
DTSTART:20251102T060000
END:STANDARD
END:VTIMEZONE
BEGIN:VEVENT
DTSTART;TZID=America/Indiana/Indianapolis:20240925T180000
DTEND;TZID=America/Indiana/Indianapolis:20240925T210000
DTSTAMP:20260421T150333
CREATED:20240816T152932Z
LAST-MODIFIED:20240910T153207Z
UID:10000150-1727287200-1727298000@www.mallowrun.com
SUMMARY:Julie Murphy & Sierra Simone at The Sycamore at Mallow Run
DESCRIPTION:Wednesday\, September 25th \nJoin us and Wildgeese Bookshop on Wednesday\, September 25th at 7:00 pm at The Sycamore at Mallow Run for an evening with authors Julie Murphy and Sierra Simone. Julie and Sierra will discuss the release of their new holiday romance A JINGLE BELL MINGLE. \nFor more information & to get your tickets CLICK HERE.
URL:https://www.mallowrun.com/event/julie-murphy-sierra-simone-at-the-sycamore-at-mallow-run/
LOCATION:The Sycamore at Mallow Run\, 7070 W Whiteland Road\, Bargersville\, IN\, 46106\, United States
CATEGORIES:September
END:VEVENT
END:VCALENDAR