BEGIN:VCALENDAR
VERSION:2.0
PRODID:-//Mallow Run Winery - ECPv6.15.17.1//NONSGML v1.0//EN
CALSCALE:GREGORIAN
METHOD:PUBLISH
X-WR-CALNAME:Mallow Run Winery
X-ORIGINAL-URL:https://www.mallowrun.com
X-WR-CALDESC:Events for Mallow Run Winery
REFRESH-INTERVAL;VALUE=DURATION:PT1H
X-Robots-Tag:noindex
X-PUBLISHED-TTL:PT1H
BEGIN:VTIMEZONE
TZID:America/Indiana/Indianapolis
BEGIN:DAYLIGHT
TZOFFSETFROM:-0500
TZOFFSETTO:-0400
TZNAME:EDT
DTSTART:20230312T070000
END:DAYLIGHT
BEGIN:STANDARD
TZOFFSETFROM:-0400
TZOFFSETTO:-0500
TZNAME:EST
DTSTART:20231105T060000
END:STANDARD
BEGIN:DAYLIGHT
TZOFFSETFROM:-0500
TZOFFSETTO:-0400
TZNAME:EDT
DTSTART:20240310T070000
END:DAYLIGHT
BEGIN:STANDARD
TZOFFSETFROM:-0400
TZOFFSETTO:-0500
TZNAME:EST
DTSTART:20241103T060000
END:STANDARD
BEGIN:DAYLIGHT
TZOFFSETFROM:-0500
TZOFFSETTO:-0400
TZNAME:EDT
DTSTART:20250309T070000
END:DAYLIGHT
BEGIN:STANDARD
TZOFFSETFROM:-0400
TZOFFSETTO:-0500
TZNAME:EST
DTSTART:20251102T060000
END:STANDARD
END:VTIMEZONE
BEGIN:VEVENT
DTSTART;TZID=America/Indiana/Indianapolis:20241012T120000
DTEND;TZID=America/Indiana/Indianapolis:20241012T180000
DTSTAMP:20260421T164025
CREATED:20240816T160308Z
LAST-MODIFIED:20241009T203349Z
UID:10000151-1728734400-1728756000@www.mallowrun.com
SUMMARY:Harvest Festival
DESCRIPTION:Saturday\, October 12th\n12-6pm \nCelebrate the Harvest season at Mallow Run Winery with live music\, local vendors\, food truck eats\, and your favorite wines! \nJoin us Saturday\, October 12th and enjoy complimentary wine tasting\, wine by the glass or bottle\, food trucks & local artisans on the drive\, seasonal crafts for the family\, and live music on the patio. Plus we’ll be serving our seasonal Apple Wine-A-Rita wine slushees and mulled wine! \nWinery open 12-6pm | Vendor area open 12-6pm \nLIVE MUSIC 2-5pm: Cornfields and Crossroads \nFood trucks scheduled to attend:\nEnedinas\nArt of Food\nSara’s Goodies\nScoops & Treasures \nVendors Scheduled to attend:\nSweet N Sour Flour\nMegan Philip Designs\nPearl Coffee Company\nKadi Mae LLC\nCoconut Rose Designs\nPinky’s Pawstries\nGeri Girl Bakery\nStanding Ovation Group\nFlower Mama\nRooted Designs + Company\nM&J Woodcrafting\n2911 Custom Designs\nKPB Craftology\nCozy Comfort Blankets\nBroad Ripple Art Works\nThe Pep Roll\nCryoFare Freeze Dried Foods\nTuly Bath & Body\nThe Melting Mama\nGive Good Handmade\nChoices Paintings and Art\nBelles and Beaux LLC\nPraying Mantis Pottery\nOld Maple Ridge\nThymely Handmade Gifts\nLHT Group\n3 Gals And A Dream\nREFcreatives\nWhimsies\nSeesters & Co \nVendor spots are now full! Check back in August 2025 for next year’s festival details. \nFamily-friendly & free admission.
URL:https://www.mallowrun.com/event/harvest-festival/
LOCATION:Mallow Run Winery\, 6964 West Whiteland Road\, Bargersville\, IN\, 46106-9199
CATEGORIES:October
END:VEVENT
END:VCALENDAR