BEGIN:VCALENDAR
VERSION:2.0
PRODID:-//Mallow Run Winery - ECPv6.15.17.1//NONSGML v1.0//EN
CALSCALE:GREGORIAN
METHOD:PUBLISH
X-ORIGINAL-URL:https://www.mallowrun.com
X-WR-CALDESC:Events for Mallow Run Winery
REFRESH-INTERVAL;VALUE=DURATION:PT1H
X-Robots-Tag:noindex
X-PUBLISHED-TTL:PT1H
BEGIN:VTIMEZONE
TZID:America/Indiana/Indianapolis
BEGIN:DAYLIGHT
TZOFFSETFROM:-0500
TZOFFSETTO:-0400
TZNAME:EDT
DTSTART:20230312T070000
END:DAYLIGHT
BEGIN:STANDARD
TZOFFSETFROM:-0400
TZOFFSETTO:-0500
TZNAME:EST
DTSTART:20231105T060000
END:STANDARD
BEGIN:DAYLIGHT
TZOFFSETFROM:-0500
TZOFFSETTO:-0400
TZNAME:EDT
DTSTART:20240310T070000
END:DAYLIGHT
BEGIN:STANDARD
TZOFFSETFROM:-0400
TZOFFSETTO:-0500
TZNAME:EST
DTSTART:20241103T060000
END:STANDARD
BEGIN:DAYLIGHT
TZOFFSETFROM:-0500
TZOFFSETTO:-0400
TZNAME:EDT
DTSTART:20250309T070000
END:DAYLIGHT
BEGIN:STANDARD
TZOFFSETFROM:-0400
TZOFFSETTO:-0500
TZNAME:EST
DTSTART:20251102T060000
END:STANDARD
END:VTIMEZONE
BEGIN:VEVENT
DTSTART;TZID=America/Indiana/Indianapolis:20241215T120000
DTEND;TZID=America/Indiana/Indianapolis:20241215T180000
DTSTAMP:20260421T195519
CREATED:20241119T183156Z
LAST-MODIFIED:20241212T161713Z
UID:10000174-1734264000-1734285600@www.mallowrun.com
SUMMARY:Holiday Open House at Mallow Run Winery
DESCRIPTION:SUNDAY\, DECEMBER 15th \nThe holidays can be stressful. Reclaim the joy of the season by stopping by the winery for our Holiday Open House weekend!Free admission and all ages welcome.\n\nJoin us in our cozy tasting room or toasty enclosed patio for live music\, festive treats\, and seasonal wines! You can also check a few more people off your list by picking up some bottles of our special holiday wines\, Reindeer Red and Winter White\, picking up a gift basket (or creating your own!)\, and perusing our selection of great products\, many of them made right here in Indiana.\n\nGather your loved ones and head down to Mallow Run for a wonderful time that would warm even Scrooge’s heart.\nEnjoy festive live music on both Saturday and Sunday!Saturday: At Your Door Productions – the Dickens Carolers 3:15-4:45pmSunday: Castlewood Singers 2-5pm
URL:https://www.mallowrun.com/event/holiday-open-house-at-mallow-run-winery-2/
LOCATION:Mallow Run Winery\, 6964 West Whiteland Road\, Bargersville\, IN\, 46106-9199
CATEGORIES:December
ATTACH;FMTTYPE=image/jpeg:https://www.mallowrun.com/wp-content/uploads/2024/11/MR-Sign-Winter.jpeg
END:VEVENT
END:VCALENDAR