BEGIN:VCALENDAR
VERSION:2.0
PRODID:-//Mallow Run Winery - ECPv6.15.17.1//NONSGML v1.0//EN
CALSCALE:GREGORIAN
METHOD:PUBLISH
X-WR-CALNAME:Mallow Run Winery
X-ORIGINAL-URL:https://www.mallowrun.com
X-WR-CALDESC:Events for Mallow Run Winery
REFRESH-INTERVAL;VALUE=DURATION:PT1H
X-Robots-Tag:noindex
X-PUBLISHED-TTL:PT1H
BEGIN:VTIMEZONE
TZID:America/Indiana/Indianapolis
BEGIN:DAYLIGHT
TZOFFSETFROM:-0500
TZOFFSETTO:-0400
TZNAME:EDT
DTSTART:20230312T070000
END:DAYLIGHT
BEGIN:STANDARD
TZOFFSETFROM:-0400
TZOFFSETTO:-0500
TZNAME:EST
DTSTART:20231105T060000
END:STANDARD
BEGIN:DAYLIGHT
TZOFFSETFROM:-0500
TZOFFSETTO:-0400
TZNAME:EDT
DTSTART:20240310T070000
END:DAYLIGHT
BEGIN:STANDARD
TZOFFSETFROM:-0400
TZOFFSETTO:-0500
TZNAME:EST
DTSTART:20241103T060000
END:STANDARD
BEGIN:DAYLIGHT
TZOFFSETFROM:-0500
TZOFFSETTO:-0400
TZNAME:EDT
DTSTART:20250309T070000
END:DAYLIGHT
BEGIN:STANDARD
TZOFFSETFROM:-0400
TZOFFSETTO:-0500
TZNAME:EST
DTSTART:20251102T060000
END:STANDARD
END:VTIMEZONE
BEGIN:VEVENT
DTSTART;TZID=America/Indiana/Indianapolis:20241221T120000
DTEND;TZID=America/Indiana/Indianapolis:20241221T180000
DTSTAMP:20260421T195325
CREATED:20241203T153938Z
LAST-MODIFIED:20241203T153938Z
UID:10000178-1734782400-1734804000@www.mallowrun.com
SUMMARY:Holiday Music at Mallow Run Winery
DESCRIPTION:SATURDAY\, DECEMBER 21st \nCelebrate the Season at Mallow Run Winery with holiday shopping & festive live music! Stop in and check some folks off of your gift list with locally made wine & merchandise. During your visit\, sit back in the cozy Tasting Room or heated patio with a glass of your Mallow Run favorite and enjoy local live music! \nLive Music 2-5pm: The Wilsons \nFamily-friendly & free admission! \nAll beer & non-Mallow Run Winery strictly prohibited by Indiana State Law. Please drink responsibly!
URL:https://www.mallowrun.com/event/holiday-music-at-mallow-run-winery/
LOCATION:Mallow Run Winery\, 6964 West Whiteland Road\, Bargersville\, IN\, 46106-9199
CATEGORIES:December
ATTACH;FMTTYPE=image/jpeg:https://www.mallowrun.com/wp-content/uploads/2024/01/wilsons.jpg
END:VEVENT
END:VCALENDAR