BEGIN:VCALENDAR
VERSION:2.0
PRODID:-//Mallow Run Winery - ECPv6.15.17.1//NONSGML v1.0//EN
CALSCALE:GREGORIAN
METHOD:PUBLISH
X-ORIGINAL-URL:https://www.mallowrun.com
X-WR-CALDESC:Events for Mallow Run Winery
REFRESH-INTERVAL;VALUE=DURATION:PT1H
X-Robots-Tag:noindex
X-PUBLISHED-TTL:PT1H
BEGIN:VTIMEZONE
TZID:America/Indiana/Indianapolis
BEGIN:DAYLIGHT
TZOFFSETFROM:-0500
TZOFFSETTO:-0400
TZNAME:EDT
DTSTART:20230312T070000
END:DAYLIGHT
BEGIN:STANDARD
TZOFFSETFROM:-0400
TZOFFSETTO:-0500
TZNAME:EST
DTSTART:20231105T060000
END:STANDARD
BEGIN:DAYLIGHT
TZOFFSETFROM:-0500
TZOFFSETTO:-0400
TZNAME:EDT
DTSTART:20240310T070000
END:DAYLIGHT
BEGIN:STANDARD
TZOFFSETFROM:-0400
TZOFFSETTO:-0500
TZNAME:EST
DTSTART:20241103T060000
END:STANDARD
BEGIN:DAYLIGHT
TZOFFSETFROM:-0500
TZOFFSETTO:-0400
TZNAME:EDT
DTSTART:20250309T070000
END:DAYLIGHT
BEGIN:STANDARD
TZOFFSETFROM:-0400
TZOFFSETTO:-0500
TZNAME:EST
DTSTART:20251102T060000
END:STANDARD
END:VTIMEZONE
BEGIN:VEVENT
DTSTART;TZID=America/Indiana/Indianapolis:20241222T120000
DTEND;TZID=America/Indiana/Indianapolis:20241222T180000
DTSTAMP:20260421T195520
CREATED:20241203T154323Z
LAST-MODIFIED:20241203T154323Z
UID:10000179-1734868800-1734890400@www.mallowrun.com
SUMMARY:Holiday Music at Mallow Run Winery
DESCRIPTION:SUNDAY\, DECEMBER 22nd \nCelebrate the Season at Mallow Run Winery with holiday shopping & festive live music! Stop in and check some folks off of your gift list with locally made wine & merchandise. During your visit\, sit back in the cozy Tasting Room or heated patio with a glass of your Mallow Run favorite and enjoy local live music! \nLive Music 2-5pm: Mark Stansbury \nFamily-friendly & free admission! \nAll beer & non-Mallow Run Winery strictly prohibited by Indiana State Law. Please drink responsibly!
URL:https://www.mallowrun.com/event/holiday-music-at-mallow-run-winery-2/
LOCATION:Mallow Run Winery\, 6964 West Whiteland Road\, Bargersville\, IN\, 46106-9199
CATEGORIES:December
ATTACH;FMTTYPE=image/png:https://www.mallowrun.com/wp-content/uploads/2024/12/MarkStansbury.png
END:VEVENT
END:VCALENDAR