BEGIN:VCALENDAR
VERSION:2.0
PRODID:-//Mallow Run Winery - ECPv6.15.17.1//NONSGML v1.0//EN
CALSCALE:GREGORIAN
METHOD:PUBLISH
X-ORIGINAL-URL:https://www.mallowrun.com
X-WR-CALDESC:Events for Mallow Run Winery
REFRESH-INTERVAL;VALUE=DURATION:PT1H
X-Robots-Tag:noindex
X-PUBLISHED-TTL:PT1H
BEGIN:VTIMEZONE
TZID:America/Indiana/Indianapolis
BEGIN:DAYLIGHT
TZOFFSETFROM:-0500
TZOFFSETTO:-0400
TZNAME:EDT
DTSTART:20240310T070000
END:DAYLIGHT
BEGIN:STANDARD
TZOFFSETFROM:-0400
TZOFFSETTO:-0500
TZNAME:EST
DTSTART:20241103T060000
END:STANDARD
BEGIN:DAYLIGHT
TZOFFSETFROM:-0500
TZOFFSETTO:-0400
TZNAME:EDT
DTSTART:20250309T070000
END:DAYLIGHT
BEGIN:STANDARD
TZOFFSETFROM:-0400
TZOFFSETTO:-0500
TZNAME:EST
DTSTART:20251102T060000
END:STANDARD
BEGIN:DAYLIGHT
TZOFFSETFROM:-0500
TZOFFSETTO:-0400
TZNAME:EDT
DTSTART:20260308T070000
END:DAYLIGHT
BEGIN:STANDARD
TZOFFSETFROM:-0400
TZOFFSETTO:-0500
TZNAME:EST
DTSTART:20261101T060000
END:STANDARD
END:VTIMEZONE
BEGIN:VEVENT
DTSTART;TZID=America/Indiana/Indianapolis:20250117T173000
DTEND;TZID=America/Indiana/Indianapolis:20250117T210000
DTSTAMP:20260421T212739
CREATED:20241219T143104Z
LAST-MODIFIED:20241219T143158Z
UID:10000194-1737135000-1737147600@www.mallowrun.com
SUMMARY:Harry Potter Trivia Night
DESCRIPTION:FRIDAY\, JANUARY 17th \nAccio trivia lovers! ⚡ It’s time to prove your wizarding knowledge at Harry Potter Trivia Night at The Sycamore at Mallow Run! Journey to the magical world of Hogwarts as you compete to claim one of three enchanting prizes. \n✨ Doors open at 5:30pm — arrive early to snag your seat in the “Great Hall” and prepare for a magical evening!\n🧙‍♂️ Trivia begins at 7:00pm — hosted by the spellbinding A+ Trivia team!\n🍹 Specialty cocktails for purchase — sip on Harry Potter-inspired concoctions straight from the “Leaky Cauldron“!\n🌮🚚 Woppo’s food truck onsite — enjoy delicious bites while you conjure your answers!\n🎉 Fun for all ages — bring your fellow witches\, wizards\, and muggles for a magical night! \nDon’t forget your robes\, scarves\, and wands — we solemnly swear it’s going to be an unforgettable evening! ✨ \nReserve your team’s table below! Teams are made up of 2-8 people. *NOTE: Only 1 team member needs to reserve your table. In the customer message section at checkout please list how many members are on your team. \n\n\nThe Sycamore Bar will be open from 5:30-8:30pm with wine\, beer\, and cocktails. \nLocation: The Sycamore at Mallow Run (7070 W. Whiteland Rd\, just west of the winery – please make sure to enter on the correct driveway leading to the Sycamore\, not the winery.) \n\n\n\n\nOutside food & drink is NOT permitted\, including Mallow Run wine. \n\n\n\n	\n\n		\n		\n		\n\n		\n\n\n		\n\n\n\n	Tickets\n\n		\n	\n	\n		The numbers below include tickets for this event already in your cart. Clicking "Get Tickets" will allow you to edit any existing attendee information as well as change ticket quantities.	\n\n\n		\n		\n		\n	\n		Tickets are no longer available
URL:https://www.mallowrun.com/event/harry-potter-trivia-night/
LOCATION:The Sycamore at Mallow Run\, 7070 W Whiteland Road\, Bargersville\, IN\, 46106\, United States
CATEGORIES:January
END:VEVENT
END:VCALENDAR