BEGIN:VCALENDAR
VERSION:2.0
PRODID:-//Mallow Run Winery - ECPv6.15.17.1//NONSGML v1.0//EN
CALSCALE:GREGORIAN
METHOD:PUBLISH
X-ORIGINAL-URL:https://www.mallowrun.com
X-WR-CALDESC:Events for Mallow Run Winery
REFRESH-INTERVAL;VALUE=DURATION:PT1H
X-Robots-Tag:noindex
X-PUBLISHED-TTL:PT1H
BEGIN:VTIMEZONE
TZID:America/Indiana/Indianapolis
BEGIN:DAYLIGHT
TZOFFSETFROM:-0500
TZOFFSETTO:-0400
TZNAME:EDT
DTSTART:20240310T070000
END:DAYLIGHT
BEGIN:STANDARD
TZOFFSETFROM:-0400
TZOFFSETTO:-0500
TZNAME:EST
DTSTART:20241103T060000
END:STANDARD
BEGIN:DAYLIGHT
TZOFFSETFROM:-0500
TZOFFSETTO:-0400
TZNAME:EDT
DTSTART:20250309T070000
END:DAYLIGHT
BEGIN:STANDARD
TZOFFSETFROM:-0400
TZOFFSETTO:-0500
TZNAME:EST
DTSTART:20251102T060000
END:STANDARD
BEGIN:DAYLIGHT
TZOFFSETFROM:-0500
TZOFFSETTO:-0400
TZNAME:EDT
DTSTART:20260308T070000
END:DAYLIGHT
BEGIN:STANDARD
TZOFFSETFROM:-0400
TZOFFSETTO:-0500
TZNAME:EST
DTSTART:20261101T060000
END:STANDARD
END:VTIMEZONE
BEGIN:VEVENT
DTSTART;TZID=America/Indiana/Indianapolis:20250119T120000
DTEND;TZID=America/Indiana/Indianapolis:20250119T160000
DTSTAMP:20260421T213531
CREATED:20240116T161945Z
LAST-MODIFIED:20241219T151021Z
UID:10000196-1737288000-1737302400@www.mallowrun.com
SUMMARY:Open Tour Weekend at The Sycamore at Mallow Run
DESCRIPTION:SATURDAY\, JANUARY 18TH & SUNDAY\, JANUARY 19TH \nPlanning a wedding\, professional event\, or intimate gathering? Come and tour the elegant spaces at The Sycamore at Mallow Run! \nThe Sycamore will be open from 10am-5pm on Saturday\, January 18th and from 12pm-4pm on Sunday\, January 19th. Our Venue Coordinators will be on-site conducting informal tours throughout the day. Just stop by\, no reservation needed! \nCome and take a tour\, pick up an informational folder\, ask questions\, enjoy refreshments\, and learn more about how The Sycamore at Mallow Run can serve as the dream venue for your special event! \n\nWe can’t wait to show you the multiple indoor and outdoor spaces\, nearly limitless options\, and naturally beautiful details. \nThe Sycamore is located at 7070 W. Whiteland Rd\, Bargersville IN 46106 – just two driveways West of the winery (the only access is by the main entrance – look for the wooden sign and long paved drive!)
URL:https://www.mallowrun.com/event/open-tours-at-the-sycamore-at-mallow-run-2/2025-01-19/
LOCATION:The Sycamore at Mallow Run\, 7070 W Whiteland Road\, Bargersville\, IN\, 46106\, United States
CATEGORIES:January
ATTACH;FMTTYPE=image/jpeg:https://www.mallowrun.com/wp-content/uploads/2022/07/BKP2016_Sycamore-openhouse_0003-scaled-1-e1734621012470.jpg
END:VEVENT
BEGIN:VEVENT
DTSTART;TZID=America/Indiana/Indianapolis:20250119T120000
DTEND;TZID=America/Indiana/Indianapolis:20250119T180000
DTSTAMP:20260421T213531
CREATED:20241213T143000Z
LAST-MODIFIED:20241213T143000Z
UID:10000185-1737288000-1737309600@www.mallowrun.com
SUMMARY:Winter Warm-Ups Weekend: Sisters BREW
DESCRIPTION:Sunday\, January 19th\n12-6pm \nEnjoy satisfying soups\, freshly-baked breads and delightful desserts that will warm your belly and your heart this winter season! Great meals and live music every weekend January-March. \nFood served 12-6pm\nLive music 2-5pm\nSoup & fresh baked bread meal $10 \nThis weekend’s featured soup: Grandma’s Chicken & Dumpling\nMusic (2-5pm): Sisters BREW \nWinery open 12-6pm. Live music on the covered\, heated patio from 2-5pm. Complimentary wine tasting in the tasting room from 12-6pm. Seating is limited and on a first come\, first served basis. (Sorry\, no reservations.) Food and wine may be ordered at the registers. Please drink responsibly.
URL:https://www.mallowrun.com/event/winter-warm-ups-weekend-sisters-brew/
LOCATION:Mallow Run Winery\, 6964 West Whiteland Road\, Bargersville\, IN\, 46106-9199
CATEGORIES:January,Winter Warm-Ups 2025
ATTACH;FMTTYPE=image/png:https://www.mallowrun.com/wp-content/uploads/2024/12/SistersBREW.png
END:VEVENT
END:VCALENDAR