BEGIN:VCALENDAR
VERSION:2.0
PRODID:-//Mallow Run Winery - ECPv6.15.17.1//NONSGML v1.0//EN
CALSCALE:GREGORIAN
METHOD:PUBLISH
X-ORIGINAL-URL:https://www.mallowrun.com
X-WR-CALDESC:Events for Mallow Run Winery
REFRESH-INTERVAL;VALUE=DURATION:PT1H
X-Robots-Tag:noindex
X-PUBLISHED-TTL:PT1H
BEGIN:VTIMEZONE
TZID:America/Indiana/Indianapolis
BEGIN:DAYLIGHT
TZOFFSETFROM:-0500
TZOFFSETTO:-0400
TZNAME:EDT
DTSTART:20240310T070000
END:DAYLIGHT
BEGIN:STANDARD
TZOFFSETFROM:-0400
TZOFFSETTO:-0500
TZNAME:EST
DTSTART:20241103T060000
END:STANDARD
BEGIN:DAYLIGHT
TZOFFSETFROM:-0500
TZOFFSETTO:-0400
TZNAME:EDT
DTSTART:20250309T070000
END:DAYLIGHT
BEGIN:STANDARD
TZOFFSETFROM:-0400
TZOFFSETTO:-0500
TZNAME:EST
DTSTART:20251102T060000
END:STANDARD
BEGIN:DAYLIGHT
TZOFFSETFROM:-0500
TZOFFSETTO:-0400
TZNAME:EDT
DTSTART:20260308T070000
END:DAYLIGHT
BEGIN:STANDARD
TZOFFSETFROM:-0400
TZOFFSETTO:-0500
TZNAME:EST
DTSTART:20261101T060000
END:STANDARD
END:VTIMEZONE
BEGIN:VEVENT
DTSTART;TZID=America/Indiana/Indianapolis:20250120T180000
DTEND;TZID=America/Indiana/Indianapolis:20250120T210000
DTSTAMP:20260421T212739
CREATED:20241217T142206Z
LAST-MODIFIED:20241217T142206Z
UID:10000188-1737396000-1737406800@www.mallowrun.com
SUMMARY:Annie's Project Cut Flower Growers
DESCRIPTION:JANUARY 20\, 2025 – FEBRUARY 24\, 2025\nMonday evenings from 6-9pm\nat The Sycamore at Mallow Run \nJoin us for an Annie’s Project class on risk management specifically aimed at cut flower growers! This workshop provides production and business management skills to new and aspiring women farmers who face unique challenges in the cut flower business. \nThis six-week course is a discussion-based workshop bringing women together to learn from experts in production\, financial management\, human resources\, marketing\, and the legal field. There is plenty of time for question\, sharing\, reacting\, and connecting with your presenters and fellow participants. \nCLICK HERE to learn more and register today!
URL:https://www.mallowrun.com/event/annies-project-cut-flower-growers/2025-01-20/
LOCATION:The Sycamore at Mallow Run\, 7070 W Whiteland Road\, Bargersville\, IN\, 46106\, United States
CATEGORIES:February,January
ATTACH;FMTTYPE=image/png:https://www.mallowrun.com/wp-content/uploads/2024/12/Untitled-design.png
END:VEVENT
END:VCALENDAR