BEGIN:VCALENDAR
VERSION:2.0
PRODID:-//Mallow Run Winery - ECPv6.15.17.1//NONSGML v1.0//EN
CALSCALE:GREGORIAN
METHOD:PUBLISH
X-WR-CALNAME:Mallow Run Winery
X-ORIGINAL-URL:https://www.mallowrun.com
X-WR-CALDESC:Events for Mallow Run Winery
REFRESH-INTERVAL;VALUE=DURATION:PT1H
X-Robots-Tag:noindex
X-PUBLISHED-TTL:PT1H
BEGIN:VTIMEZONE
TZID:America/Indiana/Indianapolis
BEGIN:DAYLIGHT
TZOFFSETFROM:-0500
TZOFFSETTO:-0400
TZNAME:EDT
DTSTART:20240310T070000
END:DAYLIGHT
BEGIN:STANDARD
TZOFFSETFROM:-0400
TZOFFSETTO:-0500
TZNAME:EST
DTSTART:20241103T060000
END:STANDARD
BEGIN:DAYLIGHT
TZOFFSETFROM:-0500
TZOFFSETTO:-0400
TZNAME:EDT
DTSTART:20250309T070000
END:DAYLIGHT
BEGIN:STANDARD
TZOFFSETFROM:-0400
TZOFFSETTO:-0500
TZNAME:EST
DTSTART:20251102T060000
END:STANDARD
BEGIN:DAYLIGHT
TZOFFSETFROM:-0500
TZOFFSETTO:-0400
TZNAME:EDT
DTSTART:20260308T070000
END:DAYLIGHT
BEGIN:STANDARD
TZOFFSETFROM:-0400
TZOFFSETTO:-0500
TZNAME:EST
DTSTART:20261101T060000
END:STANDARD
END:VTIMEZONE
BEGIN:VEVENT
DTSTART;TZID=America/Indiana/Indianapolis:20250214T180000
DTEND;TZID=America/Indiana/Indianapolis:20250214T220000
DTSTAMP:20260421T231028
CREATED:20240116T164037Z
LAST-MODIFIED:20250107T154028Z
UID:10000075-1739556000-1739570400@www.mallowrun.com
SUMMARY:Valentine Dinner
DESCRIPTION:Bring your Sweetheart to The Sycamore for a romantic evening of wining\, dining and dancing during our intimate Valentine Dinner!\n\nFriday\, February 14th\, 2025\nat The Sycamore at Mallow Run\n7070 W. Whiteland Rd\, Bargersville IN\n\nEnjoy a plated three-course dinner provided by Taxman with Mallow Run wine pairings and wonderful entertainment from The Castlewood Singers & The West Wind’s Big Band.\nCLICK HERE FOR MORE DETAILS!
URL:https://www.mallowrun.com/event/valentine-dinner/
LOCATION:The Sycamore at Mallow Run\, 7070 W Whiteland Road\, Bargersville\, IN\, 46106\, United States
CATEGORIES:February
END:VEVENT
END:VCALENDAR