BEGIN:VCALENDAR
VERSION:2.0
PRODID:-//Mallow Run Winery - ECPv6.15.17.1//NONSGML v1.0//EN
CALSCALE:GREGORIAN
METHOD:PUBLISH
X-WR-CALNAME:Mallow Run Winery
X-ORIGINAL-URL:https://www.mallowrun.com
X-WR-CALDESC:Events for Mallow Run Winery
REFRESH-INTERVAL;VALUE=DURATION:PT1H
X-Robots-Tag:noindex
X-PUBLISHED-TTL:PT1H
BEGIN:VTIMEZONE
TZID:America/Indiana/Indianapolis
BEGIN:DAYLIGHT
TZOFFSETFROM:-0500
TZOFFSETTO:-0400
TZNAME:EDT
DTSTART:20240310T070000
END:DAYLIGHT
BEGIN:STANDARD
TZOFFSETFROM:-0400
TZOFFSETTO:-0500
TZNAME:EST
DTSTART:20241103T060000
END:STANDARD
BEGIN:DAYLIGHT
TZOFFSETFROM:-0500
TZOFFSETTO:-0400
TZNAME:EDT
DTSTART:20250309T070000
END:DAYLIGHT
BEGIN:STANDARD
TZOFFSETFROM:-0400
TZOFFSETTO:-0500
TZNAME:EST
DTSTART:20251102T060000
END:STANDARD
BEGIN:DAYLIGHT
TZOFFSETFROM:-0500
TZOFFSETTO:-0400
TZNAME:EDT
DTSTART:20260308T070000
END:DAYLIGHT
BEGIN:STANDARD
TZOFFSETFROM:-0400
TZOFFSETTO:-0500
TZNAME:EST
DTSTART:20261101T060000
END:STANDARD
END:VTIMEZONE
BEGIN:VEVENT
DTSTART;TZID=America/Indiana/Indianapolis:20250227T173000
DTEND;TZID=America/Indiana/Indianapolis:20250227T210000
DTSTAMP:20260421T231026
CREATED:20250120T194957Z
LAST-MODIFIED:20250128T200146Z
UID:10000208-1740677400-1740690000@www.mallowrun.com
SUMMARY:Heart to Heart Trivia Night
DESCRIPTION:Thursday\, February 27th\, 2025 \nBrave the chill and join us for a warm-hearted trivia night with Franciscan Health and A+ Trivia! We’ll quiz you on famous hearthrobs and couples\, heart-healthy sports and games\, and famous love songs. And cardiologist Atul Chugh\, MD\, with Franciscan Physician Network Indiana Heart Physicians will share ways you can keep that heart of yours ready for whatever love and life bring your way. \nWhat’s more\, you can feel good knowing your registration fee-all of it-goes toward the American Heart Association and the Franciscan Health Foundation. \nRegistration is $40 for a table of 2-8 players. Dinner prepared by Woppo’s Mexican Food Truck is included\, along with complimentary a drink (soda\, beer\, or wine). Additional beverages will be available for purchase from The Sycamore Bar. \nAwards will go to the top three placing teams! \nRegister your table below! Please note: Only ONE team member needs to reserve your table. (In the customer message section at checkout\, please list how many members are on your team.) \n\n	\n\n		\n		\n		\n\n		\n\n\n		\n\n\n\n	Tickets\n\n		\n	\n	\n		The numbers below include tickets for this event already in your cart. Clicking "Get Tickets" will allow you to edit any existing attendee information as well as change ticket quantities.	\n\n\n		\n		\n		\n	\n		Tickets are no longer available
URL:https://www.mallowrun.com/event/heart-to-heart-trivia-night/
LOCATION:The Sycamore at Mallow Run\, 7070 W Whiteland Road\, Bargersville\, IN\, 46106\, United States
CATEGORIES:February
END:VEVENT
END:VCALENDAR