BEGIN:VCALENDAR
VERSION:2.0
PRODID:-//Mallow Run Winery - ECPv6.15.17.1//NONSGML v1.0//EN
CALSCALE:GREGORIAN
METHOD:PUBLISH
X-ORIGINAL-URL:https://www.mallowrun.com
X-WR-CALDESC:Events for Mallow Run Winery
REFRESH-INTERVAL;VALUE=DURATION:PT1H
X-Robots-Tag:noindex
X-PUBLISHED-TTL:PT1H
BEGIN:VTIMEZONE
TZID:America/Indiana/Indianapolis
BEGIN:DAYLIGHT
TZOFFSETFROM:-0500
TZOFFSETTO:-0400
TZNAME:EDT
DTSTART:20240310T070000
END:DAYLIGHT
BEGIN:STANDARD
TZOFFSETFROM:-0400
TZOFFSETTO:-0500
TZNAME:EST
DTSTART:20241103T060000
END:STANDARD
BEGIN:DAYLIGHT
TZOFFSETFROM:-0500
TZOFFSETTO:-0400
TZNAME:EDT
DTSTART:20250309T070000
END:DAYLIGHT
BEGIN:STANDARD
TZOFFSETFROM:-0400
TZOFFSETTO:-0500
TZNAME:EST
DTSTART:20251102T060000
END:STANDARD
BEGIN:DAYLIGHT
TZOFFSETFROM:-0500
TZOFFSETTO:-0400
TZNAME:EDT
DTSTART:20260308T070000
END:DAYLIGHT
BEGIN:STANDARD
TZOFFSETFROM:-0400
TZOFFSETTO:-0500
TZNAME:EST
DTSTART:20261101T060000
END:STANDARD
END:VTIMEZONE
BEGIN:VEVENT
DTSTART;TZID=America/Indiana/Indianapolis:20250317T180000
DTEND;TZID=America/Indiana/Indianapolis:20250317T200000
DTSTAMP:20260422T005019
CREATED:20250131T181755Z
LAST-MODIFIED:20250131T181854Z
UID:10000217-1742234400-1742241600@www.mallowrun.com
SUMMARY:March Ballroom Dance Lessons
DESCRIPTION:Monday\, March 3rd\, 2025 – Monday\, March 31st\, 2025 \nBallroom Dance Lessons are back! Join us at The Sycamore at Mallow Run for Ballroom Dance Lessons with MJ Ballroom Dance Venue this March. \n$150/per couple\nRegistration includes a 5-week session\, 1-hour and 15 minute dance classes every Monday in March\, at The Sycamore and a complimentary beverage at each class (beer or wine). Classes run from 6:30-7:45pm. The Sycamore Bar will be open 6-8pm. \nCLICK HERE to register! \nClass dates:\nMonday\, March 3rd\nMonday\, March 10th\nMonday\, March 17th\nMonday\, March 24th\nMonday\, March 31st \nAdditional beer + wine will be available for purchase from The Sycamore Bar. \n\n\nLocation: The Sycamore at Mallow Run (7070 W. Whiteland Rd\, just west of the winery – please make sure to enter on the correct driveway leading to the Sycamore\, not the winery.) \n\n\n\n\nOutside food & drink is NOT permitted\, including Mallow Run wine. 
URL:https://www.mallowrun.com/event/march-ballroom-dance-lessons/2025-03-17/
LOCATION:The Sycamore at Mallow Run\, 7070 W Whiteland Road\, Bargersville\, IN\, 46106\, United States
CATEGORIES:March
ATTACH;FMTTYPE=image/png:https://www.mallowrun.com/wp-content/uploads/2024/10/BallroomDanceLessons-1.png
END:VEVENT
END:VCALENDAR