BEGIN:VCALENDAR
VERSION:2.0
PRODID:-//Mallow Run Winery - ECPv6.15.17.1//NONSGML v1.0//EN
CALSCALE:GREGORIAN
METHOD:PUBLISH
X-ORIGINAL-URL:https://www.mallowrun.com
X-WR-CALDESC:Events for Mallow Run Winery
REFRESH-INTERVAL;VALUE=DURATION:PT1H
X-Robots-Tag:noindex
X-PUBLISHED-TTL:PT1H
BEGIN:VTIMEZONE
TZID:America/Indiana/Indianapolis
BEGIN:DAYLIGHT
TZOFFSETFROM:-0500
TZOFFSETTO:-0400
TZNAME:EDT
DTSTART:20250309T070000
END:DAYLIGHT
BEGIN:STANDARD
TZOFFSETFROM:-0400
TZOFFSETTO:-0500
TZNAME:EST
DTSTART:20251102T060000
END:STANDARD
BEGIN:DAYLIGHT
TZOFFSETFROM:-0500
TZOFFSETTO:-0400
TZNAME:EDT
DTSTART:20260308T070000
END:DAYLIGHT
BEGIN:STANDARD
TZOFFSETFROM:-0400
TZOFFSETTO:-0500
TZNAME:EST
DTSTART:20261101T060000
END:STANDARD
BEGIN:DAYLIGHT
TZOFFSETFROM:-0500
TZOFFSETTO:-0400
TZNAME:EDT
DTSTART:20270314T070000
END:DAYLIGHT
BEGIN:STANDARD
TZOFFSETFROM:-0400
TZOFFSETTO:-0500
TZNAME:EST
DTSTART:20271107T060000
END:STANDARD
END:VTIMEZONE
BEGIN:VEVENT
DTSTART;TZID=America/Indiana/Indianapolis:20260607T120000
DTEND;TZID=America/Indiana/Indianapolis:20260607T180000
DTSTAMP:20260420T125927
CREATED:20260227T170049Z
LAST-MODIFIED:20260224T180553Z
UID:10000395-1780833600-1780855200@www.mallowrun.com
SUMMARY:2026 Strawberry Festival: Indy Annies
DESCRIPTION:SUNDAY\, JUNE 7th \nJoin us for music and wine on the lawn! Food trucks will also be lined up outside the tasting room offering a variety of delicious mobile eats. Celebrate Strawberry Season with the annual release of our Strawberry wine\, like jam in a glass!  \nConcert on the Lawn 2-5pm: The Indy Annies \nFree admission. Family friendly; all ages welcome! Wine tasting available until 6pm. Wine available for purchase by the glass or bottle. All beer and non-Mallow Run alcohol STRICTLY PROHIBITED by Indiana law. Thank you for drinking responsibly! \nFood Trucks Scheduled to Attend: TBA\n\nPart of the Ray Skillman Southside Hyundai 2026 Picnic Concert Series presented by Cardon & Associates\, Duke Homes\, Franciscan Health\, Greenwood City Lifestyle\, Horizon Bank\, JCFiber\, Love of Labs Indiana\, Hensley Legal Group\, and Sunbelt Rentals \nFind the full 2026 Picnic Concert Series Schedule HERE!
URL:https://www.mallowrun.com/event/2026-strawberry-festival-the-big-80s/
LOCATION:Mallow Run Winery\, 6964 West Whiteland Road\, Bargersville\, IN\, 46106-9199
CATEGORIES:2026 Picnic Concert Series,June
ATTACH;FMTTYPE=image/png:https://www.mallowrun.com/wp-content/uploads/2026/02/INDY-ANNIES-Promotional-Image.png
END:VEVENT
END:VCALENDAR