BEGIN:VCALENDAR
VERSION:2.0
PRODID:-//Mallow Run Winery - ECPv6.15.17.1//NONSGML v1.0//EN
CALSCALE:GREGORIAN
METHOD:PUBLISH
X-WR-CALNAME:Mallow Run Winery
X-ORIGINAL-URL:https://www.mallowrun.com
X-WR-CALDESC:Events for Mallow Run Winery
REFRESH-INTERVAL;VALUE=DURATION:PT1H
X-Robots-Tag:noindex
X-PUBLISHED-TTL:PT1H
BEGIN:VTIMEZONE
TZID:America/Indiana/Indianapolis
BEGIN:DAYLIGHT
TZOFFSETFROM:-0500
TZOFFSETTO:-0400
TZNAME:EDT
DTSTART:20240310T070000
END:DAYLIGHT
BEGIN:STANDARD
TZOFFSETFROM:-0400
TZOFFSETTO:-0500
TZNAME:EST
DTSTART:20241103T060000
END:STANDARD
BEGIN:DAYLIGHT
TZOFFSETFROM:-0500
TZOFFSETTO:-0400
TZNAME:EDT
DTSTART:20250309T070000
END:DAYLIGHT
BEGIN:STANDARD
TZOFFSETFROM:-0400
TZOFFSETTO:-0500
TZNAME:EST
DTSTART:20251102T060000
END:STANDARD
BEGIN:DAYLIGHT
TZOFFSETFROM:-0500
TZOFFSETTO:-0400
TZNAME:EDT
DTSTART:20260308T070000
END:DAYLIGHT
BEGIN:STANDARD
TZOFFSETFROM:-0400
TZOFFSETTO:-0500
TZNAME:EST
DTSTART:20261101T060000
END:STANDARD
END:VTIMEZONE
BEGIN:VEVENT
DTSTART;TZID=America/Indiana/Indianapolis:20250409T180000
DTEND;TZID=America/Indiana/Indianapolis:20250409T200000
DTSTAMP:20260420T024334
CREATED:20250211T153545Z
LAST-MODIFIED:20250211T153615Z
UID:10000221-1744221600-1744228800@www.mallowrun.com
SUMMARY:Yoga + Wine Night
DESCRIPTION:Wednesday\, April 9th\n6-8pm \nFind peace\, strength\, clarity (and an adult beverage!) with a yoga session at The Sycamore at Mallow Run! \nJoin us at 6:30pm on April 9th for a relaxing and empowering series of yoga poses and meditation. \nRegistration is $15 and includes a full 60 minute yoga class led by certified yoga instructor\, Heather McDonald (@mcdonaldheather)\, and a glass of wine of your choice! Additional glasses will be available for purchase. Class begins at 6:30pm. The bar will be open from 6-8pm. \nParticipants are encouraged to bring their own mats and to wear comfortable clothing. \nThe Sycamore is located west of the winery at 7070 W. Whiteland Rd\, Bargersville\, IN 46106. \n\n	\n\n		\n		\n		\n\n		\n\n\n		\n\n\n\n	Tickets\n\n		\n	\n	\n		The numbers below include tickets for this event already in your cart. Clicking "Get Tickets" will allow you to edit any existing attendee information as well as change ticket quantities.	\n\n\n		\n		\n		\n	\n		Tickets are no longer available
URL:https://www.mallowrun.com/event/yoga-wine-night-11/
LOCATION:The Sycamore at Mallow Run\, 7070 W Whiteland Road\, Bargersville\, IN\, 46106\, United States
CATEGORIES:April
ATTACH;FMTTYPE=image/png:https://www.mallowrun.com/wp-content/uploads/2024/03/2024-Picnic-Concert-Series-Winery-9.png
END:VEVENT
BEGIN:VEVENT
DTSTART;TZID=America/Indiana/Indianapolis:20250411T173000
DTEND;TZID=America/Indiana/Indianapolis:20250411T210000
DTSTAMP:20260420T024334
CREATED:20250320T170403Z
LAST-MODIFIED:20250320T170442Z
UID:10000259-1744392600-1744405200@www.mallowrun.com
SUMMARY:Disney Trivia Night
DESCRIPTION:Friday\, April 11th \nBe our guest for a magical evening of fun at Disney Trivia Night at The Sycamore at Mallow Run! From the castles of Arendelle to the depths of the ocean with Ariel\, test your knowledge of Disney classics and compete for one of three enchanting prizes. \n🏰 Doors open at 5:30pm — Arrive early to claim your table and soak in the Disney magic!🎤 Trivia begins at 7:00pm — Hosted by the amazing A+ Trivia team!🍹 Specialty cocktails for purchase — Sip on Disney-inspired drinks fit for royalty!🌮 Woppo’s food truck onsite — Enjoy delicious bites while you battle for the trivia crown! \nSo grab your ohana\, dust off your glass slippers\, and get ready for a night of pixie-dusted competition! \nReserve your team’s table below! Teams are made up of 2-8 people. *NOTE: Only 1 team member needs to reserve your table. In the customer message section at checkout please list how many members are on your team. \n\n\nThe Sycamore Bar will be open from 5:30-8:30pm with wine\, beer\, and cocktails. \nLocation: The Sycamore at Mallow Run (7070 W. Whiteland Rd\, just west of the winery – please make sure to enter on the correct driveway leading to the Sycamore\, not the winery.) \n\n\n\n\nOutside food & drink is NOT permitted\, including Mallow Run wine. \n\n\n\n	\n\n		\n		\n		\n\n		\n\n\n		\n\n\n\n	Tickets\n\n		\n	\n	\n		The numbers below include tickets for this event already in your cart. Clicking "Get Tickets" will allow you to edit any existing attendee information as well as change ticket quantities.	\n\n\n		\n		\n		\n	\n		Tickets are no longer available
URL:https://www.mallowrun.com/event/disney-trivia-night-2/
LOCATION:The Sycamore at Mallow Run\, 7070 W Whiteland Road\, Bargersville\, IN\, 46106\, United States
CATEGORIES:April
END:VEVENT
BEGIN:VEVENT
DTSTART;TZID=America/Indiana/Indianapolis:20250412T090000
DTEND;TZID=America/Indiana/Indianapolis:20250412T140000
DTSTAMP:20260420T024334
CREATED:20240304T210955Z
LAST-MODIFIED:20250225T152854Z
UID:10000099-1744448400-1744466400@www.mallowrun.com
SUMMARY:Bunny Brunch 2025
DESCRIPTION:Saturday\, April 12th\nBrunch 9-11am Lunch 12-2pm\n\nHop to The Sycamore at Mallow Run for a new family Easter tradition! Join us for Bunny Brunch (or Lunch!) at The Sycamore at Mallow Run. \nEnjoy a tasty buffet\, 3 fun crafts for your little bunnies\, an egg hunt in the Sycamore vineyard and throughout the grounds\, plus a visit from the Big Bunny! Psst\, Mom & Dad! The Sycamore Bar will also be serving wine\, beer\, & festival brunch cocktails. \nFor more information & to get your tickets CLICK HERE.
URL:https://www.mallowrun.com/event/bunny-brunch/
LOCATION:The Sycamore at Mallow Run\, 7070 W Whiteland Road\, Bargersville\, IN\, 46106\, United States
CATEGORIES:April
ATTACH;FMTTYPE=image/jpeg:https://www.mallowrun.com/wp-content/uploads/2025/01/IMG_1673-scaled.jpg
END:VEVENT
BEGIN:VEVENT
DTSTART;TZID=America/Indiana/Indianapolis:20250413T120000
DTEND;TZID=America/Indiana/Indianapolis:20250413T180000
DTSTAMP:20260420T024334
CREATED:20240411T144716Z
LAST-MODIFIED:20250413T111949Z
UID:10000114-1744545600-1744567200@www.mallowrun.com
SUMMARY:Sip into Spring: Aimee & Dave
DESCRIPTION:SUNDAY April 13th\n12-6pm \nEnjoy the beauty of Spring on the patio at Mallow Run Winery with local live music\, small bites\, & delicious sips! Plus\, the walls are OFF the patio so you can enjoy the sunshine! \nLive Music on the Patio 2-5: Aimee & Dave \nFamily-friendly & free admission. \nTasting Room and grounds open 12-6pm. Complimentary wine tasting and wine sales available by the glass and bottle. Seating is first come\, first served (Sorry\, no reservations!). All beer and non-Mallow Run alcohol is strictly prohibited by Indiana State Law. Thank you for drinking responsibly!
URL:https://www.mallowrun.com/event/sip-into-spring-aimee-and-dave/
LOCATION:Mallow Run Winery\, 6964 West Whiteland Road\, Bargersville\, IN\, 46106-9199
CATEGORIES:April
ATTACH;FMTTYPE=image/png:https://www.mallowrun.com/wp-content/uploads/2025/01/Aimee-and-Dave.png
END:VEVENT
BEGIN:VEVENT
DTSTART;TZID=America/Indiana/Indianapolis:20250423T180000
DTEND;TZID=America/Indiana/Indianapolis:20250423T200000
DTSTAMP:20260420T024334
CREATED:20250211T154045Z
LAST-MODIFIED:20250211T154121Z
UID:10000222-1745431200-1745438400@www.mallowrun.com
SUMMARY:Yoga + Wine Night
DESCRIPTION:Wednesday\, April 23rd\n6-8pm \nFind peace\, strength\, clarity (and an adult beverage!) with a yoga session at The Sycamore at Mallow Run! \nJoin us at 6:30pm on April 23rd for a relaxing and empowering series of yoga poses and meditation. \nRegistration is $15 and includes a full 60 minute yoga class led by certified yoga instructor\, Heather McDonald (@mcdonaldheather)\, and a glass of wine of your choice! Additional glasses will be available for purchase. Class begins at 6:30pm. The bar will be open from 6-8pm. \nParticipants are encouraged to bring their own mats and to wear comfortable clothing. \nThe Sycamore is located west of the winery at 7070 W. Whiteland Rd\, Bargersville\, IN 46106. \n\n	\n\n		\n		\n		\n\n		\n\n\n		\n\n\n\n	Tickets\n\n		\n	\n	\n		The numbers below include tickets for this event already in your cart. Clicking "Get Tickets" will allow you to edit any existing attendee information as well as change ticket quantities.	\n\n\n		\n		\n		\n	\n		Tickets are no longer available
URL:https://www.mallowrun.com/event/yoga-wine-night-12/
LOCATION:The Sycamore at Mallow Run\, 7070 W Whiteland Road\, Bargersville\, IN\, 46106\, United States
CATEGORIES:April
ATTACH;FMTTYPE=image/png:https://www.mallowrun.com/wp-content/uploads/2024/03/2024-Picnic-Concert-Series-Winery-9.png
END:VEVENT
BEGIN:VEVENT
DTSTART;TZID=America/Indiana/Indianapolis:20250426T120000
DTEND;TZID=America/Indiana/Indianapolis:20250426T180000
DTSTAMP:20260420T024334
CREATED:20250425T142050Z
LAST-MODIFIED:20250425T142314Z
UID:10000263-1745668800-1745690400@www.mallowrun.com
SUMMARY:Sip into Spring: Davis & Devitt
DESCRIPTION:SATURDAY April 26th\n12-6pm \nEnjoy the beauty of Spring on the patio at Mallow Run Winery with local live music\, small bites\, & delicious sips! Plus\, our outdoor bar\, The Shack\, is NOW OPEN! \nLive Music on the Patio 2-5: Davis & Devitt \nFamily-friendly & free admission. \nTasting Room and grounds open 12-6pm. Complimentary wine tasting and wine sales available by the glass and bottle. Seating is first come\, first served (Sorry\, no reservations!). All beer and non-Mallow Run alcohol is strictly prohibited by Indiana State Law. Thank you for drinking responsibly!
URL:https://www.mallowrun.com/event/sip-into-spring-davis-devitt/
LOCATION:Mallow Run Winery\, 6964 West Whiteland Road\, Bargersville\, IN\, 46106-9199
CATEGORIES:April
ATTACH;FMTTYPE=image/png:https://www.mallowrun.com/wp-content/uploads/2024/12/DavisandDevitt.png
END:VEVENT
BEGIN:VEVENT
DTSTART;TZID=America/Indiana/Indianapolis:20250427T120000
DTEND;TZID=America/Indiana/Indianapolis:20250427T180000
DTSTAMP:20260420T024334
CREATED:20250425T142218Z
LAST-MODIFIED:20250425T142218Z
UID:10000264-1745755200-1745776800@www.mallowrun.com
SUMMARY:Sip into Spring: John Ryan
DESCRIPTION:SUNDAY April 27th\n12-6pm \nEnjoy the beauty of Spring on the patio at Mallow Run Winery with local live music\, small bites\, & delicious sips! Plus\, our outdoor bar\, The Shack\, is NOW OPEN! \nLive Music on the Patio 2-5: John Ryan \nFamily-friendly & free admission. \nTasting Room and grounds open 12-6pm. Complimentary wine tasting and wine sales available by the glass and bottle. Seating is first come\, first served (Sorry\, no reservations!). All beer and non-Mallow Run alcohol is strictly prohibited by Indiana State Law. Thank you for drinking responsibly!
URL:https://www.mallowrun.com/event/sip-into-spring-john-ryan/
LOCATION:Mallow Run Winery\, 6964 West Whiteland Road\, Bargersville\, IN\, 46106-9199
CATEGORIES:April
ATTACH;FMTTYPE=image/jpeg:https://www.mallowrun.com/wp-content/uploads/2024/01/johnryan.jpeg
END:VEVENT
BEGIN:VEVENT
DTSTART;TZID=America/Indiana/Indianapolis:20250430T180000
DTEND;TZID=America/Indiana/Indianapolis:20250430T200000
DTSTAMP:20260420T024334
CREATED:20250321T132932Z
LAST-MODIFIED:20250321T132932Z
UID:10000260-1746036000-1746043200@www.mallowrun.com
SUMMARY:Vendor Open House at the Sycamore at Mallow Run
DESCRIPTION:WEDNESDAY\nApril 30th\, 2025\n6-8pm \nCome explore The Sycamore at Mallow Run and chat with our recommended wedding vendors\, including caterers\, florists\, photographers\, specialty linens and rentals\, musicians\, and more! There is no cost to attend. We’d love to see you there! \nVendor list coming soon! \nThe Sycamore at Mallow Run is located at 7070 W. Whiteland Rd – two driveways west of the winery entrance. Look for the large wooden sign and long paved driveway! \nRSVP not necessary to attend. Family-friendly & free admission.
URL:https://www.mallowrun.com/event/spring-vendor-open-house-at-the-sycamore-at-mallow-run/
LOCATION:The Sycamore at Mallow Run\, 7070 W Whiteland Road\, Bargersville\, IN\, 46106\, United States
CATEGORIES:April
END:VEVENT
END:VCALENDAR