BEGIN:VCALENDAR
VERSION:2.0
PRODID:-//Mallow Run Winery - ECPv6.15.17.1//NONSGML v1.0//EN
CALSCALE:GREGORIAN
METHOD:PUBLISH
X-ORIGINAL-URL:https://www.mallowrun.com
X-WR-CALDESC:Events for Mallow Run Winery
REFRESH-INTERVAL;VALUE=DURATION:PT1H
X-Robots-Tag:noindex
X-PUBLISHED-TTL:PT1H
BEGIN:VTIMEZONE
TZID:America/Indiana/Indianapolis
BEGIN:DAYLIGHT
TZOFFSETFROM:-0500
TZOFFSETTO:-0400
TZNAME:EDT
DTSTART:20250309T070000
END:DAYLIGHT
BEGIN:STANDARD
TZOFFSETFROM:-0400
TZOFFSETTO:-0500
TZNAME:EST
DTSTART:20251102T060000
END:STANDARD
BEGIN:DAYLIGHT
TZOFFSETFROM:-0500
TZOFFSETTO:-0400
TZNAME:EDT
DTSTART:20260308T070000
END:DAYLIGHT
BEGIN:STANDARD
TZOFFSETFROM:-0400
TZOFFSETTO:-0500
TZNAME:EST
DTSTART:20261101T060000
END:STANDARD
BEGIN:DAYLIGHT
TZOFFSETFROM:-0500
TZOFFSETTO:-0400
TZNAME:EDT
DTSTART:20270314T070000
END:DAYLIGHT
BEGIN:STANDARD
TZOFFSETFROM:-0400
TZOFFSETTO:-0500
TZNAME:EST
DTSTART:20271107T060000
END:STANDARD
END:VTIMEZONE
BEGIN:VEVENT
DTSTART;TZID=America/Indiana/Indianapolis:20260411T120000
DTEND;TZID=America/Indiana/Indianapolis:20260411T180000
DTSTAMP:20260419T094244
CREATED:20260407T191404Z
LAST-MODIFIED:20260407T194924Z
UID:10000421-1775908800-1775930400@www.mallowrun.com
SUMMARY:Bottles\, Blooms\, & Bites: Exit 99
DESCRIPTION:Saturday\, April 11th\n12–6pm \nJoin us for Bottles\, Blooms\, & Bites—a perfect way to sip\, savor\, and celebrate the season! Enjoy delicious meatball subs served with your choice of chips or pasta salad\, paired with your favorite wines and a relaxing afternoon at the winery. We are also featuring $10 wine pairing special: Corot Noir or Moscato. (Enjoy at the winery or take a bottle home!) \nFood served 12–6pm\nLive music 2-5pm\nMeatball sub Meal $10 \nMusic 2-5pm: Exit 99 \nWinery open 12–6pm. Live music will be on the patio from 2–5pm. Complimentary wine tasting available in the tasting room from 12–6pm. Seating is limited and available on a first come\, first served basis (no reservations). Food and wine may be ordered at the registers. Please drink responsibly.
URL:https://www.mallowrun.com/event/bottles-blooms-bites-exit-99/
CATEGORIES:April
ATTACH;FMTTYPE=image/jpeg:https://www.mallowrun.com/wp-content/uploads/2024/08/exit99.jpg
END:VEVENT
END:VCALENDAR