BEGIN:VCALENDAR
VERSION:2.0
PRODID:-//Mallow Run Winery - ECPv6.15.17.1//NONSGML v1.0//EN
CALSCALE:GREGORIAN
METHOD:PUBLISH
X-ORIGINAL-URL:https://www.mallowrun.com
X-WR-CALDESC:Events for Mallow Run Winery
REFRESH-INTERVAL;VALUE=DURATION:PT1H
X-Robots-Tag:noindex
X-PUBLISHED-TTL:PT1H
BEGIN:VTIMEZONE
TZID:America/Indiana/Indianapolis
BEGIN:DAYLIGHT
TZOFFSETFROM:-0500
TZOFFSETTO:-0400
TZNAME:EDT
DTSTART:20250309T070000
END:DAYLIGHT
BEGIN:STANDARD
TZOFFSETFROM:-0400
TZOFFSETTO:-0500
TZNAME:EST
DTSTART:20251102T060000
END:STANDARD
BEGIN:DAYLIGHT
TZOFFSETFROM:-0500
TZOFFSETTO:-0400
TZNAME:EDT
DTSTART:20260308T070000
END:DAYLIGHT
BEGIN:STANDARD
TZOFFSETFROM:-0400
TZOFFSETTO:-0500
TZNAME:EST
DTSTART:20261101T060000
END:STANDARD
BEGIN:DAYLIGHT
TZOFFSETFROM:-0500
TZOFFSETTO:-0400
TZNAME:EDT
DTSTART:20270314T070000
END:DAYLIGHT
BEGIN:STANDARD
TZOFFSETFROM:-0400
TZOFFSETTO:-0500
TZNAME:EST
DTSTART:20271107T060000
END:STANDARD
END:VTIMEZONE
BEGIN:VEVENT
DTSTART;TZID=America/Indiana/Indianapolis:20260430T173000
DTEND;TZID=America/Indiana/Indianapolis:20260430T213000
DTSTAMP:20260419T093956
CREATED:20260313T041602Z
LAST-MODIFIED:20260313T041727Z
UID:10000420-1777570200-1777584600@www.mallowrun.com
SUMMARY:Toy Story Trivia
DESCRIPTION:Thursday\, April 30th \n🤠 Are you ready to go to infinity… and beyond? It’s time to put your knowledge to the test at Toy Story Trivia Night at The Sycamore at Mallow Run! From Andy’s room to Pizza Planet\, prove you’re the ultimate fan of Woody\, Buzz\, and the whole toy box while competing for one of three fantastic prizes. \n🧸 Doors open at 5:30pm — arrive early to grab your table and get ready for a night of playful trivia!🚀 Trivia begins at 7:00pm — hosted by the wonderful A+ Trivia team!🍸 Specialty cocktails for purchase — enjoy toy-inspired drinks while you play!🌮 Woppo’s food truck onsite — grab some delicious bites to power up your trivia skills! \nWhether you’re Team Woody or Team Buzz\, this is your chance to celebrate the adventure\, friendship\, and unforgettable moments from the beloved Toy Story movies. So round up your fellow toys and get ready for a rootin’ tootin’ good time! \nReserve your team’s table below! Teams are made up of 2–8 people. NOTE: Only 1 team member needs to reserve your table. In the customer message section at checkout please list how many members are on your team. \nThe Sycamore Bar will be open from 5:30–8:30pm with wine\, beer\, and cocktails. \nLocation: The Sycamore at Mallow Run(7070 W. Whiteland Rd\, just west of the winery – please make sure to enter on the correct driveway leading to the Sycamore\, not the winery.) \nOutside food & drink is NOT permitted\, including Mallow Run wine. \n\n	\n\n		\n		\n		\n\n		\n\n\n		\n\n\n\n	Tickets\n\n		\n	\n	\n		The numbers below include tickets for this event already in your cart. Clicking "Get Tickets" will allow you to edit any existing attendee information as well as change ticket quantities.	\n\n\n		\n\n	\n		\n				Toy Story Trivia Night Table	\n\n\n\n\n	This ticket is for a full TABLE (2-8 team members) at Toy Story Trivia Night. PLEASE NOTE: Only ONE team member needs to purchase a ticket.\n\n\n	\n		\n		\n				\n					$\n					60.00\n				\n						\n\n\n	\n\n\n	\n	 20  available\n\n\n	\n\n\n	\n						\n	Decrease ticket quantity for Toy Story Trivia Night Table\n	-\n				\n\n	\n		Quantity	\n	\n\n					\n	Increase ticket quantity for Toy Story Trivia Night Table\n	+\n			\n\n	\n		\n	\n\n\n		\n\n	\n	\n	\n		Quantity:	\n	0\n\n\n	\n	\n		Total:	\n	\n		\n				\n					$\n					0.00\n				\n				\n\n\n	Get Tickets
URL:https://www.mallowrun.com/event/toy-story-trivia/
LOCATION:The Sycamore at Mallow Run\, 7070 W Whiteland Road\, Bargersville\, IN\, 46106\, United States
CATEGORIES:April
ATTACH;FMTTYPE=image/png:https://www.mallowrun.com/wp-content/uploads/2026/03/Trivia-Promo-Pictures.png
END:VEVENT
END:VCALENDAR