BEGIN:VCALENDAR
VERSION:2.0
PRODID:-//Mallow Run Winery - ECPv6.15.17.1//NONSGML v1.0//EN
CALSCALE:GREGORIAN
METHOD:PUBLISH
X-WR-CALNAME:Mallow Run Winery
X-ORIGINAL-URL:https://www.mallowrun.com
X-WR-CALDESC:Events for Mallow Run Winery
REFRESH-INTERVAL;VALUE=DURATION:PT1H
X-Robots-Tag:noindex
X-PUBLISHED-TTL:PT1H
BEGIN:VTIMEZONE
TZID:America/Indiana/Indianapolis
BEGIN:DAYLIGHT
TZOFFSETFROM:-0500
TZOFFSETTO:-0400
TZNAME:EDT
DTSTART:20240310T070000
END:DAYLIGHT
BEGIN:STANDARD
TZOFFSETFROM:-0400
TZOFFSETTO:-0500
TZNAME:EST
DTSTART:20241103T060000
END:STANDARD
BEGIN:DAYLIGHT
TZOFFSETFROM:-0500
TZOFFSETTO:-0400
TZNAME:EDT
DTSTART:20250309T070000
END:DAYLIGHT
BEGIN:STANDARD
TZOFFSETFROM:-0400
TZOFFSETTO:-0500
TZNAME:EST
DTSTART:20251102T060000
END:STANDARD
BEGIN:DAYLIGHT
TZOFFSETFROM:-0500
TZOFFSETTO:-0400
TZNAME:EDT
DTSTART:20260308T070000
END:DAYLIGHT
BEGIN:STANDARD
TZOFFSETFROM:-0400
TZOFFSETTO:-0500
TZNAME:EST
DTSTART:20261101T060000
END:STANDARD
END:VTIMEZONE
BEGIN:VEVENT
DTSTART;TZID=America/Indiana/Indianapolis:20250509T173000
DTEND;TZID=America/Indiana/Indianapolis:20250509T210000
DTSTAMP:20260419T201609
CREATED:20250411T125852Z
LAST-MODIFIED:20250412T113940Z
UID:10000261-1746811800-1746824400@www.mallowrun.com
SUMMARY:The Hunger Games Trivia Night
DESCRIPTION:Friday\, May 9th \nMay the odds be ever in your favor at The Hunger Games Trivia Night at The Sycamore at Mallow Run! Step into the world of Panem and prove you’ve got what it takes to survive the ultimate trivia arena. From the Capitol’s glitz to the gritty depths of District 12\, test your knowledge of Katniss\, Peeta\, and the rebellion that sparked a revolution — and compete for one of three triumphant prizes. \n🔥 Doors open at 5:30pm — Arrive early to claim your district’s table and strategize with your tribute team!🎯 Trivia begins at 7:00pm — Hosted by the ever-clever A+ Trivia team!🍸 Specialty cocktails for purchase — Sip on themed drinks inspired by the world of Panem!🌮 Woppo’s food truck onsite — Fuel up with delicious bites before heading into battle! \nSo gather your allies\, don your mockingjay pins\, and get ready for a night of fierce competition and Capitol-worthy fun! \nReserve your team’s table below! Teams are made up of 2-8 people. *NOTE: Only 1 team member needs to reserve your table. In the customer message section at checkout please list how many members are on your team. \n\n\nThe Sycamore Bar will be open from 5:30-8:30pm with wine\, beer\, and cocktails. \nLocation: The Sycamore at Mallow Run (7070 W. Whiteland Rd\, just west of the winery – please make sure to enter on the correct driveway leading to the Sycamore\, not the winery.) \n\n\n\n\nOutside food & drink is NOT permitted\, including Mallow Run wine. \nView our cancellation & refund policy here. \n\n\n\n	\n\n		\n		\n		\n\n		\n\n\n		\n\n\n\n	Tickets\n\n		\n	\n	\n		The numbers below include tickets for this event already in your cart. Clicking "Get Tickets" will allow you to edit any existing attendee information as well as change ticket quantities.	\n\n\n		\n		\n		\n	\n		Tickets are no longer available
URL:https://www.mallowrun.com/event/the-hunger-games-trivia-night/
LOCATION:The Sycamore at Mallow Run\, 7070 W Whiteland Road\, Bargersville\, IN\, 46106\, United States
CATEGORIES:May
END:VEVENT
BEGIN:VEVENT
DTSTART;TZID=America/Indiana/Indianapolis:20250510T120000
DTEND;TZID=America/Indiana/Indianapolis:20250510T180000
DTSTAMP:20260419T201609
CREATED:20250507T153800Z
LAST-MODIFIED:20250507T202324Z
UID:10000270-1746878400-1746900000@www.mallowrun.com
SUMMARY:Celebrate Mom at Mallow Run Winery
DESCRIPTION:SATURDAY May 10th\n12-6pm \nCelebrate Mom at Mallow Run Winery with fruitful sips\, snacks\, & local live music! Grab a bouquet provided by Two Trees Flower Farm\, one of our specialty wine cocktails\, and a delicious brunch box while you listen to local live music on the covered patio. Plus\, don’t miss TWO limited-time promotions: Spritzer Bundle & Mix n’ Match Wine Sale. \nSpritzer Bundle\nA bottle of Pie in the Sky\, Cranberry\, Radiance\, and a bottle of your choice for only $55 \nMix n’ Match Case Sale\n20% off 12 or more bottles \nDiscounts may only be applied to one single-customer transaction with one payment (no split payments). May not be combined with other discounts or promotions. Promotions run Saturday\, May 10th-Sunday\, May 11th. \nLive Music on the Patio 2-5: Aimee Eisenmann Duo \nFamily-friendly & free admission. \nTasting Room and grounds open 12-6pm. Complimentary wine tasting and wine sales available by the glass and bottle. Seating is first come\, first served (Sorry\, no reservations!). All beer and non-Mallow Run alcohol is strictly prohibited by Indiana State Law. Thank you for drinking responsibly!
URL:https://www.mallowrun.com/event/celebrate-mom-at-mallow-run-winery/
LOCATION:Mallow Run Winery\, 6964 West Whiteland Road\, Bargersville\, IN\, 46106-9199
CATEGORIES:May
ATTACH;FMTTYPE=image/jpeg:https://www.mallowrun.com/wp-content/uploads/2024/05/mallowrunentrancesign-1-scaled.jpg
END:VEVENT
BEGIN:VEVENT
DTSTART;TZID=America/Indiana/Indianapolis:20250511T120000
DTEND;TZID=America/Indiana/Indianapolis:20250511T180000
DTSTAMP:20260419T201609
CREATED:20240508T200112Z
LAST-MODIFIED:20250507T202405Z
UID:10000122-1746964800-1746986400@www.mallowrun.com
SUMMARY:Celebrate Mom at Mallow Run Winery
DESCRIPTION:SUNDAY May 11th\n12-6pm \nCelebrate Mom at Mallow Run Winery with fruitful sips\, snacks\, & local live music! Grab a bouquet provided by Two Trees Flower Farm\, one of our specialty wine cocktails\, and a delicious brunch box while you listen to local live music on the covered patio. Plus\, don’t miss TWO limited-time promotions: Spritzer Bundle & Mix n’ Match Wine Sale. \nSpritzer Bundle\nA bottle of Pie in the Sky\, Cranberry\, Radiance\, and a bottle of your choice for only $55 \nMix n’ Match Case Sale\n20% off 12 or more bottles \nDiscounts may only be applied to one single-customer transaction with one payment (no split payments). May not be combined with other discounts or promotions. Promotions run Saturday\, May 10th-Sunday\, May 11th. \nLive Music on the Patio 2-5: Aimee Eisenmann Duo \nFamily-friendly & free admission. \nTasting Room and grounds open 12-6pm. Complimentary wine tasting and wine sales available by the glass and bottle. Seating is first come\, first served (Sorry\, no reservations!). All beer and non-Mallow Run alcohol is strictly prohibited by Indiana State Law. Thank you for drinking responsibly! \nLive Music on the Patio 2-5: Ruben Guthrie \nFamily-friendly & free admission. \nTasting Room and grounds open 12-6pm. Complimentary wine tasting and wine sales available by the glass and bottle. Seating is first come\, first served (Sorry\, no reservations!). All beer and non-Mallow Run alcohol is strictly prohibited by Indiana State Law. Thank you for drinking responsibly!
URL:https://www.mallowrun.com/event/mothers-day/
LOCATION:Mallow Run Winery\, 6964 West Whiteland Road\, Bargersville\, IN\, 46106-9199
CATEGORIES:May
ATTACH;FMTTYPE=image/jpeg:https://www.mallowrun.com/wp-content/uploads/2024/05/mallowrunentrancesign-1-scaled.jpg
END:VEVENT
BEGIN:VEVENT
DTSTART;TZID=America/Indiana/Indianapolis:20250517T120000
DTEND;TZID=America/Indiana/Indianapolis:20250517T180000
DTSTAMP:20260419T201609
CREATED:20250514T192505Z
LAST-MODIFIED:20250514T192505Z
UID:10000272-1747483200-1747504800@www.mallowrun.com
SUMMARY:Sip into Spring: Walker & Tesmer
DESCRIPTION:SATURDAY May 17th\n12-6pm \nEnjoy the beauty of Spring on the patio at Mallow Run Winery with local live music\, small bites\, & delicious sips! Plus\, our outdoor bar\, The Shack\, is OPEN with frozen Wine-A-Rita wine slushees! \nLive Music on the Patio 2-5: Walker & Tesmer \nFamily-friendly & free admission. \nTasting Room and grounds open 12-6pm. Complimentary wine tasting and wine sales available by the glass and bottle. Seating is first come\, first served (Sorry\, no reservations!). All beer and non-Mallow Run alcohol is strictly prohibited by Indiana State Law. Thank you for drinking responsibly!
URL:https://www.mallowrun.com/event/sip-into-spring-walker-tesmer/
LOCATION:Mallow Run Winery\, 6964 West Whiteland Road\, Bargersville\, IN\, 46106-9199
CATEGORIES:May
ATTACH;FMTTYPE=image/jpeg:https://www.mallowrun.com/wp-content/uploads/2025/05/walkerandtesmer.jpg
END:VEVENT
BEGIN:VEVENT
DTSTART;TZID=America/Indiana/Indianapolis:20250518T120000
DTEND;TZID=America/Indiana/Indianapolis:20250518T180000
DTSTAMP:20260419T201609
CREATED:20250514T192927Z
LAST-MODIFIED:20250514T192927Z
UID:10000273-1747569600-1747591200@www.mallowrun.com
SUMMARY:Sip into Spring: Scott Manning
DESCRIPTION:SUNDAY May 18th\n12-6pm \nEnjoy the beauty of Spring on the patio at Mallow Run Winery with local live music\, small bites\, & delicious sips! Plus\, our outdoor bar\, The Shack\, is OPEN with frozen Wine-A-Rita wine slushees! \nLive Music on the Patio 2-5: Scott Manning \nFamily-friendly & free admission. \nTasting Room and grounds open 12-6pm. Complimentary wine tasting and wine sales available by the glass and bottle. Seating is first come\, first served (Sorry\, no reservations!). All beer and non-Mallow Run alcohol is strictly prohibited by Indiana State Law. Thank you for drinking responsibly!
URL:https://www.mallowrun.com/event/sip-into-spring-scott-manning/
LOCATION:Mallow Run Winery\, 6964 West Whiteland Road\, Bargersville\, IN\, 46106-9199
CATEGORIES:May
ATTACH;FMTTYPE=image/jpeg:https://www.mallowrun.com/wp-content/uploads/2025/05/scottmanning.jpg
END:VEVENT
BEGIN:VEVENT
DTSTART;TZID=America/Indiana/Indianapolis:20250524T120000
DTEND;TZID=America/Indiana/Indianapolis:20250524T210000
DTSTAMP:20260419T201609
CREATED:20250314T154906Z
LAST-MODIFIED:20250519T194054Z
UID:10000223-1748088000-1748120400@www.mallowrun.com
SUMMARY:2025 Picnic Concert Series Kick-Off: Tastes Like Chicken
DESCRIPTION:SATURDAY\, MAY 24th \nJoin us in kicking off our 2025 Summer Season with music and wine on the lawn! Food trucks will also be lined up outside the tasting room offering a variety of delicious mobile eats. \nMusic on the Patio 12-3pm: Ben Tatum\nConcert on the Lawn 6pm: Tastes Like Chicken \nFree admission. Family friendly; all ages welcome! Wine tasting available until 6pm. Wine available for purchase by the glass or bottle. All beer and non-Mallow Run alcohol STRICTLY PROHIBITED by Indiana law. Thank you for drinking responsibly! \nFood Trucks Scheduled to Attend:\n\nWoppo’s Taco Truck\nParty Chef\nBoxBurger\nArt of Food\nScoops & Treasures\nSip and Shine\nSon’s Kettle Korn\nPart of the Ray Skillman Southside Hyundai 2025 Picnic Concert Series presented by Cardon & Associates\, Duke Homes\, Edwards Electrical & Mechanical\, Franciscan Health\, Gorman & Bunch Orthodontics\, Greenwood City Lifestyle\, Horizon Bank\, JC Fiber\, Steve’s Flowers\, and Sunbelt Rentals \nFind the full 2025 Picnic Concert Series Schedule HERE! \n 
URL:https://www.mallowrun.com/event/2025-picnic-concert-series-kick-off-tastes-like-chicken/
LOCATION:Mallow Run Winery\, 6964 West Whiteland Road\, Bargersville\, IN\, 46106-9199
CATEGORIES:2025 Picnic Concert Series,May
ATTACH;FMTTYPE=image/jpeg:https://www.mallowrun.com/wp-content/uploads/2024/03/TLC-Main-1.jpg
END:VEVENT
BEGIN:VEVENT
DTSTART;TZID=America/Indiana/Indianapolis:20250525T120000
DTEND;TZID=America/Indiana/Indianapolis:20250525T180000
DTSTAMP:20260419T201609
CREATED:20250519T135830Z
LAST-MODIFIED:20250519T135830Z
UID:10000274-1748174400-1748196000@www.mallowrun.com
SUMMARY:Sunday on the Patio: Acoustic Catfish
DESCRIPTION:SUNDAY May 25th\n12-6pm \nGrab a glass or bottle of wine in the tasting room and head to the patio\, a picnic table\, or bring your chairs and blankets to spread out on the lawn and enjoy great local tunes. The Shack will also be open\, serving all of our wines and frozen Wine-A-Rita wine slushees! \nLive Music on the Patio 2-5pm: Acoustic Catfish \nFamily-friendly & free admission. \nTasting Room and grounds open 12-6pm. Complimentary wine tasting and wine sales available by the glass and bottle. Seating is first come\, first served (Sorry\, no reservations!). All beer and non-Mallow Run alcohol is strictly prohibited by Indiana State Law. Thank you for drinking responsibly!
URL:https://www.mallowrun.com/event/sunday-on-the-patio-acoustic-catfish-3/
LOCATION:Mallow Run Winery\, 6964 West Whiteland Road\, Bargersville\, IN\, 46106-9199
CATEGORIES:2025 Picnic Concert Series,May,September
ATTACH;FMTTYPE=image/jpeg:https://www.mallowrun.com/wp-content/uploads/2025/02/AcousticCatfish2-scaled.jpeg
END:VEVENT
BEGIN:VEVENT
DTSTART;TZID=America/Indiana/Indianapolis:20250528T180000
DTEND;TZID=America/Indiana/Indianapolis:20250528T200000
DTSTAMP:20260419T201609
CREATED:20250421T154807Z
LAST-MODIFIED:20250421T155159Z
UID:10000262-1748455200-1748462400@www.mallowrun.com
SUMMARY:Yoga + Wine Night
DESCRIPTION:Wednesday\, May 28th\n6-8pm \nFind peace\, strength\, clarity (and an adult beverage!) with a yoga session at The Sycamore at Mallow Run! \nJoin us at 6:30pm on May 28th for a relaxing and empowering series of yoga poses and meditation. \nRegistration is $15 and includes a full 60 minute yoga class led by certified yoga instructor\, Heather McDonald (@mcdonaldheather)\, and a glass of wine of your choice! Additional glasses will be available for purchase. Class begins at 6:30pm. The bar will be open from 6-8pm. \nParticipants are encouraged to bring their own mats and to wear comfortable clothing. \nThe Sycamore is located west of the winery at 7070 W. Whiteland Rd\, Bargersville\, IN 46106. \nView our cancellation & refund policy here. \n\n	\n\n		\n		\n		\n\n		\n\n\n		\n\n\n\n	Tickets\n\n		\n	\n	\n		The numbers below include tickets for this event already in your cart. Clicking "Get Tickets" will allow you to edit any existing attendee information as well as change ticket quantities.	\n\n\n		\n		\n		\n	\n		Tickets are no longer available
URL:https://www.mallowrun.com/event/yoga-wine-night-13/
LOCATION:The Sycamore at Mallow Run\, 7070 W Whiteland Road\, Bargersville\, IN\, 46106\, United States
CATEGORIES:May
ATTACH;FMTTYPE=image/png:https://www.mallowrun.com/wp-content/uploads/2024/03/2024-Picnic-Concert-Series-Winery-9.png
END:VEVENT
BEGIN:VEVENT
DTSTART;TZID=America/Indiana/Indianapolis:20250531T120000
DTEND;TZID=America/Indiana/Indianapolis:20250531T220000
DTSTAMP:20260419T201609
CREATED:20250314T154912Z
LAST-MODIFIED:20250519T135959Z
UID:10000224-1748692800-1748728800@www.mallowrun.com
SUMMARY:2025 Picnic Concert Series: That Arena Rock Show
DESCRIPTION:That Arena Rock Show\nA celebration of 70s and 80s rock.\nlive on the lawn at Mallow Run Winery \nSaturday\, May 31st at 7pm\nGates open by 5:30pm | Music begins at 7pm \nConcert is rain or shine. In the event of dangerous weather conditions the concert may be cancelled and your ticket will be applicable to another ticketed concert in the 2025 Picnic Concert Series. Please keep an eye on social media & our website on the day of the event for the most updated concert status. \nTickets $15 in advance / $20 day of show\nKids 12 & under are free\n \nPURCHASE TICKETS BELOW \nAdvance ticket sales end around 6pm on Friday\, May 30th! \nMusic on the Patio 12-3pm: Brandon Boerner\nFood Trucks Scheduled to Attend: TBA\nFamily friendly; all ages welcome! Wine tasting available until 6pm. Wine available for purchase by the glass or bottle until music ends. Tents discouraged; if used they must be placed in designated locations only. All beer and non-Mallow Run alcohol STRICTLY PROHIBITED by Indiana law. Thank you for drinking responsibly!\n\nPart of the Ray Skillman Southside Hyundai 2025 Picnic Concert Series presented by Cardon & Associates\, Duke Homes\, Edwards Electrical & Mechanical\, Franciscan Health\, Gorman & Bunch Orthodontics\, Greenwood City Lifestyle\, Horizon Bank\, JC Fiber\, Steve’s Flowers\, and Sunbelt Rentals \nFind the full 2025 Picnic Concert Series Schedule HERE! \n\n\n	\n\n		\n		\n		\n\n		\n\n\n		\n\n\n\n	Tickets\n\n		\n	\n	\n		The numbers below include tickets for this event already in your cart. Clicking "Get Tickets" will allow you to edit any existing attendee information as well as change ticket quantities.	\n\n\n		\n		\n		\n	\n		Tickets are no longer available
URL:https://www.mallowrun.com/event/2025-picnic-concert-series-that-arena-rock-show/
LOCATION:Mallow Run Winery\, 6964 West Whiteland Road\, Bargersville\, IN\, 46106-9199
CATEGORIES:2025 Picnic Concert Series,May
END:VEVENT
END:VCALENDAR