BEGIN:VCALENDAR
VERSION:2.0
PRODID:-//Mallow Run Winery - ECPv6.15.17.1//NONSGML v1.0//EN
CALSCALE:GREGORIAN
METHOD:PUBLISH
X-ORIGINAL-URL:https://www.mallowrun.com
X-WR-CALDESC:Events for Mallow Run Winery
REFRESH-INTERVAL;VALUE=DURATION:PT1H
X-Robots-Tag:noindex
X-PUBLISHED-TTL:PT1H
BEGIN:VTIMEZONE
TZID:America/Indiana/Indianapolis
BEGIN:DAYLIGHT
TZOFFSETFROM:-0500
TZOFFSETTO:-0400
TZNAME:EDT
DTSTART:20230312T070000
END:DAYLIGHT
BEGIN:STANDARD
TZOFFSETFROM:-0400
TZOFFSETTO:-0500
TZNAME:EST
DTSTART:20231105T060000
END:STANDARD
BEGIN:DAYLIGHT
TZOFFSETFROM:-0500
TZOFFSETTO:-0400
TZNAME:EDT
DTSTART:20240310T070000
END:DAYLIGHT
BEGIN:STANDARD
TZOFFSETFROM:-0400
TZOFFSETTO:-0500
TZNAME:EST
DTSTART:20241103T060000
END:STANDARD
BEGIN:DAYLIGHT
TZOFFSETFROM:-0500
TZOFFSETTO:-0400
TZNAME:EDT
DTSTART:20250309T070000
END:DAYLIGHT
BEGIN:STANDARD
TZOFFSETFROM:-0400
TZOFFSETTO:-0500
TZNAME:EST
DTSTART:20251102T060000
END:STANDARD
END:VTIMEZONE
BEGIN:VEVENT
DTSTART;TZID=America/Indiana/Indianapolis:20240519T120000
DTEND;TZID=America/Indiana/Indianapolis:20240519T180000
DTSTAMP:20260420T181337
CREATED:20240517T153753Z
LAST-MODIFIED:20240517T214150Z
UID:10000127-1716120000-1716141600@www.mallowrun.com
SUMMARY:Sip into Spring: Orvis & Friends Duo
DESCRIPTION:SUNDAY May 19th\n12-6pm \nEnjoy the beauty of Spring on the patio at Mallow Run Winery with local live music\, small bites\, frozen Wine-A-Rita wine slushees\, & other delicious sips! \nLive Music on the Patio 2-5: Orvis & Friends Duo \nFamily-friendly & free admission. \nTasting Room and grounds open 12-6pm. Complimentary wine tasting and wine sales available by the glass and bottle. Seating is first come\, first served (Sorry\, no reservations!). All beer and non-Mallow Run alcohol is strictly prohibited by Indiana State Law. Thank you for drinking responsibly!
URL:https://www.mallowrun.com/event/sip-into-spring-orvis-friends-duo/
LOCATION:Mallow Run Winery\, 6964 West Whiteland Road\, Bargersville\, IN\, 46106-9199
CATEGORIES:May
ATTACH;FMTTYPE=image/jpeg:https://www.mallowrun.com/wp-content/uploads/2024/05/orvisfriends.jpg
END:VEVENT
END:VCALENDAR