BEGIN:VCALENDAR
VERSION:2.0
PRODID:-//Mallow Run Winery - ECPv6.15.17.1//NONSGML v1.0//EN
CALSCALE:GREGORIAN
METHOD:PUBLISH
X-ORIGINAL-URL:https://www.mallowrun.com
X-WR-CALDESC:Events for Mallow Run Winery
REFRESH-INTERVAL;VALUE=DURATION:PT1H
X-Robots-Tag:noindex
X-PUBLISHED-TTL:PT1H
BEGIN:VTIMEZONE
TZID:America/Indiana/Indianapolis
BEGIN:DAYLIGHT
TZOFFSETFROM:-0500
TZOFFSETTO:-0400
TZNAME:EDT
DTSTART:20250309T070000
END:DAYLIGHT
BEGIN:STANDARD
TZOFFSETFROM:-0400
TZOFFSETTO:-0500
TZNAME:EST
DTSTART:20251102T060000
END:STANDARD
BEGIN:DAYLIGHT
TZOFFSETFROM:-0500
TZOFFSETTO:-0400
TZNAME:EDT
DTSTART:20260308T070000
END:DAYLIGHT
BEGIN:STANDARD
TZOFFSETFROM:-0400
TZOFFSETTO:-0500
TZNAME:EST
DTSTART:20261101T060000
END:STANDARD
BEGIN:DAYLIGHT
TZOFFSETFROM:-0500
TZOFFSETTO:-0400
TZNAME:EDT
DTSTART:20270314T070000
END:DAYLIGHT
BEGIN:STANDARD
TZOFFSETFROM:-0400
TZOFFSETTO:-0500
TZNAME:EST
DTSTART:20271107T060000
END:STANDARD
END:VTIMEZONE
BEGIN:VEVENT
DTSTART;TZID=America/Indiana/Indianapolis:20260527T180000
DTEND;TZID=America/Indiana/Indianapolis:20260527T200000
DTSTAMP:20260419T233541
CREATED:20260307T200210Z
LAST-MODIFIED:20260307T200210Z
UID:10000415-1779904800-1779912000@www.mallowrun.com
SUMMARY:Yoga + Wine Night
DESCRIPTION:Wednesday\, May 27th\n6-8pm \nFind peace\, strength\, clarity (and an adult beverage!) with a yoga session at The Sycamore at Mallow Run! \nJoin us at 6:30pm on May 27th for a relaxing and empowering series of yoga poses and meditation. \nRegistration is $15 and includes a full 60 minute yoga class led by certified yoga instructor\, Heather McDonald (@mcdonaldheather)\, and a glass of wine of your choice! Additional glasses will be available for purchase. Class begins at 6:30pm. The bar will be open from 6-8pm. \nParticipants are encouraged to bring their own mats and to wear comfortable clothing. \nThe Sycamore is located west of the winery at 7070 W. Whiteland Rd\, Bargersville\, IN 46106. Please take note of changes in traffic due to ongoing construction on SR 37. \n\n	\n\n		\n		\n		\n\n		\n\n\n		\n\n\n\n	Tickets\n\n		\n	\n	\n		The numbers below include tickets for this event already in your cart. Clicking "Get Tickets" will allow you to edit any existing attendee information as well as change ticket quantities.	\n\n\n		\n\n	\n		\n				May 27th Yoga + Wine Night	\n\n\n\n\n	This ticket is for ONE admission to the May 27th Yoga + Wine Night session at The Sycamore at Mallow Run.\n\n\n	\n		\n		\n				\n					$\n					15.00\n				\n						\n\n\n	\n\n\n	Unlimited\n	\n\n\n	\n\n\n	\n						\n	Decrease ticket quantity for May 27th Yoga + Wine Night\n	-\n				\n\n	\n		Quantity	\n	\n\n					\n	Increase ticket quantity for May 27th Yoga + Wine Night\n	+\n			\n\n	\n		\n	\n\n\n		\n\n	\n	\n	\n		Quantity:	\n	0\n\n\n	\n	\n		Total:	\n	\n		\n				\n					$\n					0.00\n				\n				\n\n\n	Get Tickets
URL:https://www.mallowrun.com/event/yoga-wine-night-34/
LOCATION:The Sycamore at Mallow Run\, 7070 W Whiteland Road\, Bargersville\, IN\, 46106\, United States
CATEGORIES:Classes,May
ATTACH;FMTTYPE=image/png:https://www.mallowrun.com/wp-content/uploads/2024/03/2024-Picnic-Concert-Series-Winery-9.png
END:VEVENT
BEGIN:VEVENT
DTSTART;TZID=America/Indiana/Indianapolis:20260530T120000
DTEND;TZID=America/Indiana/Indianapolis:20260530T210000
DTSTAMP:20260419T233541
CREATED:20260227T170048Z
LAST-MODIFIED:20260224T191455Z
UID:10000394-1780142400-1780174800@www.mallowrun.com
SUMMARY:2026 Picnic Concert Series: The Eagles Project
DESCRIPTION:The Eagles Project\nCelebrating the iconic sound of the Eagles.\nlive on the lawn at Mallow Run Winery \nSATURDAY\, MAY 30th at 7pm \nGates open by 5:30pm | Music begins at 7pm \nConcert is rain or shine. In the event of dangerous weather conditions the concert may be cancelled and your ticket will be applicable to any ticketed concert in the 2026 Picnic Concert Series. Please keep an eye on social media & our website on the day of the event for the most updated concert status. \nTickets $15 in advance / $20 day of show\nKids 12 & under are free \nPURCHASE TICKETS BELOW \nAdvance ticket sales end around 6pm on Friday\, May 29th! \nMusic on the Patio 12-3pm: TBA\nFood Trucks Scheduled to Attend: TBA\n\nFamily friendly; all ages welcome! Wine tasting available until 6pm. Wine available for purchase by the glass or bottle until music ends. Tents discouraged; if used they must be placed in designated locations only. All beer and non-Mallow Run alcohol STRICTLY PROHIBITED by Indiana law. Thank you for drinking responsibly!\nPart of the Ray Skillman Southside Hyundai 2026 Picnic Concert Series presented by Cardon & Associates\, Duke Homes\, Franciscan Health\, Greenwood City Lifestyle\, Horizon Bank\, JCFiber\, Love of Labs Indiana\, Hensley Legal Group\, and Sunbelt Rentals \nFind the full 2026 Picnic Concert Series Schedule HERE! \n\n	\n\n		\n		\n		\n\n		\n\n\n		\n\n\n\n	Tickets\n\n		\n	\n	\n		The numbers below include tickets for this event already in your cart. Clicking "Get Tickets" will allow you to edit any existing attendee information as well as change ticket quantities.	\n\n\n			\n		\n			Event Tickets		\n\n			\n\n	\n\n	\n		\n				2026 Picnic Concert Series: The Eagles Project	\n\n\n\n\n	This ticket is for ONE admission to the The Eagles Project concert on the lawn at Mallow Run Winery on Saturday\, May 30th\, 2026.\n\n\n	\n		\n		\n				\n					$\n					15.00\n				\n						\n\n\n	\n\n\n	Unlimited\n	\n\n\n	\n\n\n	\n					\n\n	\n		Quantity	\n	\n\n			\n\n	\n		\n	\n\n\n		\n\n	\n	\n	\n		Quantity:	\n	0\n\n\n	\n	\n		Total:	\n	\n		\n				\n					$\n					0.00\n				\n				\n\n\n	Get Tickets
URL:https://www.mallowrun.com/event/2026-picnic-concert-series-the-eagles-project/
LOCATION:Mallow Run Winery\, 6964 West Whiteland Road\, Bargersville\, IN\, 46106-9199
CATEGORIES:2026 Picnic Concert Series,May
ATTACH;FMTTYPE=image/png:https://www.mallowrun.com/wp-content/uploads/2026/02/THE-EAGLES-PROJECT-PCS-Promotional-Image.png
END:VEVENT
END:VCALENDAR