BEGIN:VCALENDAR
VERSION:2.0
PRODID:-//Mallow Run Winery - ECPv6.15.17.1//NONSGML v1.0//EN
CALSCALE:GREGORIAN
METHOD:PUBLISH
X-WR-CALNAME:Mallow Run Winery
X-ORIGINAL-URL:https://www.mallowrun.com
X-WR-CALDESC:Events for Mallow Run Winery
REFRESH-INTERVAL;VALUE=DURATION:PT1H
X-Robots-Tag:noindex
X-PUBLISHED-TTL:PT1H
BEGIN:VTIMEZONE
TZID:America/Indiana/Indianapolis
BEGIN:DAYLIGHT
TZOFFSETFROM:-0500
TZOFFSETTO:-0400
TZNAME:EDT
DTSTART:20230312T070000
END:DAYLIGHT
BEGIN:STANDARD
TZOFFSETFROM:-0400
TZOFFSETTO:-0500
TZNAME:EST
DTSTART:20231105T060000
END:STANDARD
BEGIN:DAYLIGHT
TZOFFSETFROM:-0500
TZOFFSETTO:-0400
TZNAME:EDT
DTSTART:20240310T070000
END:DAYLIGHT
BEGIN:STANDARD
TZOFFSETFROM:-0400
TZOFFSETTO:-0500
TZNAME:EST
DTSTART:20241103T060000
END:STANDARD
BEGIN:DAYLIGHT
TZOFFSETFROM:-0500
TZOFFSETTO:-0400
TZNAME:EDT
DTSTART:20250309T070000
END:DAYLIGHT
BEGIN:STANDARD
TZOFFSETFROM:-0400
TZOFFSETTO:-0500
TZNAME:EST
DTSTART:20251102T060000
END:STANDARD
END:VTIMEZONE
BEGIN:VEVENT
DTSTART;TZID=America/Indiana/Indianapolis:20240706T120000
DTEND;TZID=America/Indiana/Indianapolis:20240706T220000
DTSTAMP:20260421T080810
CREATED:20240315T191728Z
LAST-MODIFIED:20240704T142451Z
UID:10000101-1720267200-1720303200@www.mallowrun.com
SUMMARY:Red\, White\, & Blueberry Festival: The Indigos
DESCRIPTION:SATURDAY\, JULY 6th\n\nJoin us for music and wine on the lawn! Food trucks will also be lined up outside the tasting room offering a variety of delicious mobile eats. Celebrate Independence Day on the lawn at Mallow Run with the annual release of our delicious Blueberry wine + cider. Plus\, enjoy a FIREWORKS FINALE on the lawn when music concludes. \nMusic on the Patio 12-3pm: Scott Gould\nConcert on the Lawn 7pm: The Indigos\n$10 car charge after 5pm. Family friendly; all ages welcome! Wine tasting available until 6pm. Wine available for purchase by the glass or bottle. All beer and non-Mallow Run alcohol STRICTLY PROHIBITED by Indiana law. Thank you for drinking responsibly! \nFood Trucks Scheduled to Attend: TBD\n\nPart of the Ray Skillman Southside Hyundai 2024 Picnic Concert Series presented by Cardon & Associates\, Duke Homes\, Franciscan Alliance\, Greenwood City Lifestyle\, Hensley Legal Group\, Horizon Bank\, JC Fiber\, Steve’s Flowers\, and Sunbelt Rentals \nFind the full 2024 Picnic Concert Series Schedule HERE!
URL:https://www.mallowrun.com/event/red-white-blueberry-festival-the-indigos/
LOCATION:Mallow Run Winery\, 6964 West Whiteland Road\, Bargersville\, IN\, 46106-9199
CATEGORIES:2024 Picnic Concert Series,July
ATTACH;FMTTYPE=image/jpeg:https://www.mallowrun.com/wp-content/uploads/2024/03/theindigos.jpg
END:VEVENT
BEGIN:VEVENT
DTSTART;TZID=America/Indiana/Indianapolis:20240707T120000
DTEND;TZID=America/Indiana/Indianapolis:20240707T180000
DTSTAMP:20260421T080810
CREATED:20240315T191707Z
LAST-MODIFIED:20240703T185905Z
UID:10000102-1720353600-1720375200@www.mallowrun.com
SUMMARY:Red\, White\, & Blueberry Festival: Living Proof
DESCRIPTION:SUNDAY\, JULY 7th\n\nJoin us for music and wine on the lawn! Food trucks will also be lined up outside the tasting room offering a variety of delicious mobile eats. Celebrate Independence Day on the lawn at Mallow Run with the annual release of our delicious Blueberry wine + cider. \nConcert on the Lawn 2-5pm: Living Proof \nFree admission. Family friendly; all ages welcome! Wine tasting available until 6pm. Wine available for purchase by the glass or bottle. All beer and non-Mallow Run alcohol STRICTLY PROHIBITED by Indiana law. Thank you for drinking responsibly! \nFood Trucks Scheduled to Attend: TBD\n\nPart of the Ray Skillman Southside Hyundai 2024 Picnic Concert Series presented by Cardon & Associates\, Duke Homes\, Franciscan Alliance\, Greenwood City Lifestyle\, Hensley Legal Group\, Horizon Bank\, JC Fiber\, Steve’s Flowers\, and Sunbelt Rentals \nFind the full 2024 Picnic Concert Series Schedule HERE!
URL:https://www.mallowrun.com/event/red-white-blueberry-festival-living-proof/
LOCATION:Mallow Run Winery\, 6964 West Whiteland Road\, Bargersville\, IN\, 46106-9199
CATEGORIES:2024 Picnic Concert Series,July
ATTACH;FMTTYPE=image/png:https://www.mallowrun.com/wp-content/uploads/2024/03/Living-Proof.png
END:VEVENT
BEGIN:VEVENT
DTSTART;TZID=America/Indiana/Indianapolis:20240713T120000
DTEND;TZID=America/Indiana/Indianapolis:20240713T210000
DTSTAMP:20260421T080810
CREATED:20240315T191655Z
LAST-MODIFIED:20250917T152955Z
UID:10000085-1720872000-1720904400@www.mallowrun.com
SUMMARY:2024 Picnic Concert Series: The Doo!
DESCRIPTION:SATURDAY\, JULY 13th \nJoin us for music and wine on the lawn! Food trucks will also be lined up outside the tasting room offering a variety of delicious mobile eats. \nMusic on the Patio 12-3pm: Wild Dogs\nConcert on the Lawn 6pm: The Doo!\nFree admission. Family friendly; all ages welcome! Wine tasting available until 6pm. Wine available for purchase by the glass or bottle. All beer and non-Mallow Run alcohol STRICTLY PROHIBITED by Indiana law. Thank you for drinking responsibly! \nFood Trucks Scheduled to Attend: TBD\n\nPart of the Ray Skillman Southside Hyundai 2024 Picnic Concert Series presented by Cardon & Associates\, Duke Homes\, Franciscan Alliance\, Greenwood City Lifestyle\, Hensley Legal Group\, Horizon Bank\, JC Fiber\, Steve’s Flowers\, and Sunbelt Rentals \nFind the full 2024 Picnic Concert Series Schedule HERE!
URL:https://www.mallowrun.com/event/2024-picnic-concert-series-the-doo/
LOCATION:Mallow Run Winery\, 6964 West Whiteland Road\, Bargersville\, IN\, 46106-9199
CATEGORIES:2024 Picnic Concert Series,July
ATTACH;FMTTYPE=image/jpeg:https://www.mallowrun.com/wp-content/uploads/2024/02/DSC02485-scaled.jpg
END:VEVENT
BEGIN:VEVENT
DTSTART;TZID=America/Indiana/Indianapolis:20240714T120000
DTEND;TZID=America/Indiana/Indianapolis:20240714T180000
DTSTAMP:20260421T080810
CREATED:20240703T140717Z
LAST-MODIFIED:20240711T143552Z
UID:10000137-1720958400-1720980000@www.mallowrun.com
SUMMARY:Sunday on the Patio: Tommy & Lynzi
DESCRIPTION:SUNDAY July 14th\n12-6pm \nGrab a glass or bottle of wine in the tasting room and head to the patio\, a picnic table\, or bring your chairs and blankets to spread out on the lawn and enjoy great local tunes. The Shack will also be open\, serving all of our wines and frozen Wine-A-Rita wine slushees! \nLive Music on the Patio 2-5: Tommy & Lynzi \nFamily-friendly & free admission. \nTasting Room and grounds open 12-6pm. Complimentary wine tasting and wine sales available by the glass and bottle. Seating is first come\, first served (Sorry\, no reservations!). All beer and non-Mallow Run alcohol is strictly prohibited by Indiana State Law. Thank you for drinking responsibly!
URL:https://www.mallowrun.com/event/sunday-on-the-patio/
LOCATION:Mallow Run Winery\, 6964 West Whiteland Road\, Bargersville\, IN\, 46106-9199
CATEGORIES:2024 Picnic Concert Series,July
ATTACH;FMTTYPE=image/jpeg:https://www.mallowrun.com/wp-content/uploads/2024/07/tommyandlynzi-e1720708544302.jpg
END:VEVENT
BEGIN:VEVENT
DTSTART;TZID=America/Indiana/Indianapolis:20240717T180000
DTEND;TZID=America/Indiana/Indianapolis:20240717T200000
DTSTAMP:20260421T080810
CREATED:20240319T151553Z
LAST-MODIFIED:20240319T151607Z
UID:10000109-1721239200-1721246400@www.mallowrun.com
SUMMARY:Yoga and Wine Night
DESCRIPTION:Wednesday\, July 17th\n6-8pm \nFind peace\, strength\, clarity (and an adult beverage!) with a yoga session at The Sycamore at Mallow Run! \nJoin us at 6:30pm on July 17th for a relaxing and empowering series of yoga poses and meditation. \nRegistration is $15 and includes a full 60 minute yoga class led by certified yoga instructor\, Heather McDonald (@mcdonaldheather)\, and a glass of wine of your choice! Additional glasses will be available for purchase. Class begins at 6:30pm. The bar will be open from 6-8pm. \nParticipants are encouraged to bring their own mats and to wear comfortable clothing. \nThe Sycamore is located west of the winery at 7070 W. Whiteland Rd\, Bargersville\, IN 46106. Please take note of changes in traffic due to ongoing construction on SR 37.
URL:https://www.mallowrun.com/event/yoga-and-wine-night-3/
LOCATION:The Sycamore at Mallow Run\, 7070 W Whiteland Road\, Bargersville\, IN\, 46106\, United States
CATEGORIES:July
ATTACH;FMTTYPE=image/jpeg:https://www.mallowrun.com/wp-content/uploads/2024/03/IMG_6760-scaled.jpg
END:VEVENT
BEGIN:VEVENT
DTSTART;TZID=America/Indiana/Indianapolis:20240720T120000
DTEND;TZID=America/Indiana/Indianapolis:20240720T210000
DTSTAMP:20260421T080810
CREATED:20240315T191644Z
LAST-MODIFIED:20240708T220033Z
UID:10000086-1721476800-1721509200@www.mallowrun.com
SUMMARY:2024 Picnic Concert Series: Toy Factory
DESCRIPTION:SATURDAY\, JULY 20th \nJoin us for music and wine on the lawn! Food trucks will also be lined up outside the tasting room offering a variety of delicious mobile eats. \nMusic on the Patio 12-3pm: Bittersweet\nConcert on the Lawn 6pm: Toy Factory\nFree admission. Family friendly; all ages welcome! Wine tasting available until 6pm. Wine available for purchase by the glass or bottle. All beer and non-Mallow Run alcohol STRICTLY PROHIBITED by Indiana law. Thank you for drinking responsibly! \nFood Trucks Scheduled to Attend: TBD\n\nPart of the Ray Skillman Southside Hyundai 2024 Picnic Concert Series presented by Cardon & Associates\, Duke Homes\, Franciscan Alliance\, Greenwood City Lifestyle\, Hensley Legal Group\, Horizon Bank\, JC Fiber\, Steve’s Flowers\, and Sunbelt Rentals \nFind the full 2024 Picnic Concert Series Schedule HERE!
URL:https://www.mallowrun.com/event/2024-picnic-concert-series-toy-factory/
LOCATION:Mallow Run Winery\, 6964 West Whiteland Road\, Bargersville\, IN\, 46106-9199
CATEGORIES:2024 Picnic Concert Series,July
ATTACH;FMTTYPE=image/png:https://www.mallowrun.com/wp-content/uploads/2024/02/Toy-Factory.png
END:VEVENT
BEGIN:VEVENT
DTSTART;TZID=America/Indiana/Indianapolis:20240721T120000
DTEND;TZID=America/Indiana/Indianapolis:20240721T150000
DTSTAMP:20260421T080810
CREATED:20240703T141025Z
LAST-MODIFIED:20240703T141025Z
UID:10000136-1721563200-1721574000@www.mallowrun.com
SUMMARY:Sunday Market
DESCRIPTION:Sunday\, July 21st\, 2024\n12-3pm \nJoin us for an afternoon on the lawn at Mallow Run Winery featuring live music\, food trucks\, and your favorite Bargersville Farmers Market vendors! The Tasting Room will be open with wine sales by the glass\, bottle\, & for carryout. Winery open 12-6pm. Market runs 12-3pm. \nMusic on the Lawn 12-3pm: Sisters BREW \nFood Trucks scheduled to attend: TBD \nFree admission & family-friendly! \nA collaboration with Bargersville Main Street & Bargersville Indiana Farmers Market
URL:https://www.mallowrun.com/event/sunday-market/
LOCATION:Mallow Run Winery\, 6964 West Whiteland Road\, Bargersville\, IN\, 46106-9199
CATEGORIES:July
ATTACH;FMTTYPE=image/jpeg:https://www.mallowrun.com/wp-content/uploads/2024/07/sundaymarket.jpg
END:VEVENT
BEGIN:VEVENT
DTSTART;TZID=America/Indiana/Indianapolis:20240726T173000
DTEND;TZID=America/Indiana/Indianapolis:20240726T210000
DTSTAMP:20260421T080810
CREATED:20240610T122224Z
LAST-MODIFIED:20240722T162156Z
UID:10000134-1722015000-1722027600@www.mallowrun.com
SUMMARY:Girl's Night Out - Rom Com Trivia Night
DESCRIPTION:FRIDAY\, JULY 26th\nGrab your Gal Pals & enjoy a night of laughs! Test your knowledge on classic Rom Coms with your girlies at The Sycamore at Mallow Run! Join us in a classic trivia competition for you and your friends with the chance to win 1 of 3 fantastic prizes! \n\n\nDoors open at 5:30pm | Trivia begins at 7:00pm | Hosted by A+ Trivia \n\n\nReserve your team’s table! Teams are made up of 2-8 people. *NOTE: Only 1 team member needs to reserve your table. In the additional notes section please list how many members are on your team.\n \n\n\nGrab a bite to eat from the onsite food truck\, Woppo’s\, and a beverage from the bar! \nDuring the event be sure to visit our onsite vendor\, Belles & Beaux\, with permanent jewelry services! \n  \n\n\nThe Sycamore Bar will be open from 5:30-8:30pm with wine\, beer\, and cocktails. \nLocation: The Sycamore at Mallow Run (7070 W. Whiteland Rd\, just west of the winery – please make sure to enter on the correct driveway leading to the Sycamore\, not the winery.) \n\n\n\n\nOutside food & drink is NOT permitted\, including Mallow Run wine. Beer\, wine\, and non-alcoholic beverages will be available at the bar. Food will be available from the onsite food truck\, Woppo’s. \nCancellation policy: Cancellations are permitted with 72 hours notice. Please call (317) 422-1556 or email amy@mallowrun.com. Registrations not cancelled 72 hours in advance will be charged the full fee.
URL:https://www.mallowrun.com/event/girls-night-out-rom-com-trivia-night/
LOCATION:The Sycamore at Mallow Run\, 7070 W Whiteland Road\, Bargersville\, IN\, 46106\, United States
CATEGORIES:July
END:VEVENT
BEGIN:VEVENT
DTSTART;TZID=America/Indiana/Indianapolis:20240727T120000
DTEND;TZID=America/Indiana/Indianapolis:20240727T210000
DTSTAMP:20260421T080810
CREATED:20240315T191632Z
LAST-MODIFIED:20240703T135527Z
UID:10000087-1722081600-1722114000@www.mallowrun.com
SUMMARY:2024 Picnic Concert Series: The Woomblies
DESCRIPTION:SATURDAY\, JULY 27th \nJoin us for music and wine on the lawn! Food trucks will also be lined up outside the tasting room offering a variety of delicious mobile eats. \nMusic on the Patio 12-3pm: The Wilsons\nConcert on the Lawn 6pm: The Woomblies\nFree admission. Family friendly; all ages welcome! Wine tasting available until 6pm. Wine available for purchase by the glass or bottle. All beer and non-Mallow Run alcohol STRICTLY PROHIBITED by Indiana law. Thank you for drinking responsibly! \nFood Trucks Scheduled to Attend: TBD\n\nPart of the Ray Skillman Southside Hyundai 2024 Picnic Concert Series presented by Cardon & Associates\, Duke Homes\, Franciscan Alliance\, Greenwood City Lifestyle\, Hensley Legal Group\, Horizon Bank\, JC Fiber\, Steve’s Flowers\, and Sunbelt Rentals \nFind the full 2024 Picnic Concert Series Schedule HERE!
URL:https://www.mallowrun.com/event/2024-picnic-concert-series-the-woomblies/
LOCATION:Mallow Run Winery\, 6964 West Whiteland Road\, Bargersville\, IN\, 46106-9199
CATEGORIES:2024 Picnic Concert Series,July
ATTACH;FMTTYPE=image/jpeg:https://www.mallowrun.com/wp-content/uploads/2024/02/thewoomblies.jpg
END:VEVENT
BEGIN:VEVENT
DTSTART;TZID=America/Indiana/Indianapolis:20240728T120000
DTEND;TZID=America/Indiana/Indianapolis:20240728T180000
DTSTAMP:20260421T080810
CREATED:20240703T141432Z
LAST-MODIFIED:20240703T141432Z
UID:10000138-1722168000-1722189600@www.mallowrun.com
SUMMARY:Sunday on the Patio: Jamie Nichole
DESCRIPTION:SUNDAY July 28th\n12-6pm \nGrab a glass or bottle of wine in the tasting room and head to the patio\, a picnic table\, or bring your chairs and blankets to spread out on the lawn and enjoy great local tunes. The Shack will also be open\, serving all of our wines and frozen Wine-A-Rita wine slushees! \nLive Music on the Patio 2-5: Jamie Nichole \nFamily-friendly & free admission. \nTasting Room and grounds open 12-6pm. Complimentary wine tasting and wine sales available by the glass and bottle. Seating is first come\, first served (Sorry\, no reservations!). All beer and non-Mallow Run alcohol is strictly prohibited by Indiana State Law. Thank you for drinking responsibly!
URL:https://www.mallowrun.com/event/sunday-on-the-patio-jamie-nichole/
LOCATION:Mallow Run Winery\, 6964 West Whiteland Road\, Bargersville\, IN\, 46106-9199
CATEGORIES:2024 Picnic Concert Series,July
ATTACH;FMTTYPE=image/jpeg:https://www.mallowrun.com/wp-content/uploads/2024/01/jamie-nichole.jpeg
END:VEVENT
END:VCALENDAR