BEGIN:VCALENDAR
VERSION:2.0
PRODID:-//Mallow Run Winery - ECPv6.15.17.1//NONSGML v1.0//EN
CALSCALE:GREGORIAN
METHOD:PUBLISH
X-WR-CALNAME:Mallow Run Winery
X-ORIGINAL-URL:https://www.mallowrun.com
X-WR-CALDESC:Events for Mallow Run Winery
REFRESH-INTERVAL;VALUE=DURATION:PT1H
X-Robots-Tag:noindex
X-PUBLISHED-TTL:PT1H
BEGIN:VTIMEZONE
TZID:America/Indiana/Indianapolis
BEGIN:DAYLIGHT
TZOFFSETFROM:-0500
TZOFFSETTO:-0400
TZNAME:EDT
DTSTART:20230312T070000
END:DAYLIGHT
BEGIN:STANDARD
TZOFFSETFROM:-0400
TZOFFSETTO:-0500
TZNAME:EST
DTSTART:20231105T060000
END:STANDARD
BEGIN:DAYLIGHT
TZOFFSETFROM:-0500
TZOFFSETTO:-0400
TZNAME:EDT
DTSTART:20240310T070000
END:DAYLIGHT
BEGIN:STANDARD
TZOFFSETFROM:-0400
TZOFFSETTO:-0500
TZNAME:EST
DTSTART:20241103T060000
END:STANDARD
BEGIN:DAYLIGHT
TZOFFSETFROM:-0500
TZOFFSETTO:-0400
TZNAME:EDT
DTSTART:20250309T070000
END:DAYLIGHT
BEGIN:STANDARD
TZOFFSETFROM:-0400
TZOFFSETTO:-0500
TZNAME:EST
DTSTART:20251102T060000
END:STANDARD
END:VTIMEZONE
BEGIN:VEVENT
DTSTART;TZID=America/Indiana/Indianapolis:20240803T120000
DTEND;TZID=America/Indiana/Indianapolis:20240803T210000
DTSTAMP:20260421T094609
CREATED:20240315T191548Z
LAST-MODIFIED:20240729T161520Z
UID:10000088-1722686400-1722718800@www.mallowrun.com
SUMMARY:2024 Picnic Concert Series: Nauti Yachtys
DESCRIPTION:SATURDAY\, AUGUST 3rd \nJoin us for music and wine on the lawn! Food trucks will also be lined up outside the tasting room offering a variety of delicious mobile eats. \nMusic on the Patio 12-3pm: Tom Brown\nConcert on the Lawn 6pm: Nauti Yachtys\nFree admission. Family friendly; all ages welcome! Wine tasting available until 6pm. Wine available for purchase by the glass or bottle. All beer and non-Mallow Run alcohol STRICTLY PROHIBITED by Indiana law. Thank you for drinking responsibly! \nFood Trucks Scheduled to Attend: TBD\n\nPart of the Ray Skillman Southside Hyundai 2024 Picnic Concert Series presented by Cardon & Associates\, Duke Homes\, Franciscan Alliance\, Greenwood City Lifestyle\, Hensley Legal Group\, Horizon Bank\, JC Fiber\, Steve’s Flowers\, and Sunbelt Rentals \nFind the full 2024 Picnic Concert Series Schedule HERE!
URL:https://www.mallowrun.com/event/2024-picnic-concert-series-nauti-yachtys/
LOCATION:Mallow Run Winery\, 6964 West Whiteland Road\, Bargersville\, IN\, 46106-9199
CATEGORIES:2024 Picnic Concert Series,August
ATTACH;FMTTYPE=image/jpeg:https://www.mallowrun.com/wp-content/uploads/2024/02/nautiyachtys.jpg
END:VEVENT
BEGIN:VEVENT
DTSTART;TZID=America/Indiana/Indianapolis:20240804T120000
DTEND;TZID=America/Indiana/Indianapolis:20240804T180000
DTSTAMP:20260421T094609
CREATED:20240729T160114Z
LAST-MODIFIED:20240729T160114Z
UID:10000145-1722772800-1722794400@www.mallowrun.com
SUMMARY:Sunday on the Patio: Acoustic Catfish
DESCRIPTION:SUNDAY August 4th\n12-6pm \nGrab a glass or bottle of wine in the tasting room and head to the patio\, a picnic table\, or bring your chairs and blankets to spread out on the lawn and enjoy great local tunes. The Shack will also be open\, serving all of our wines and frozen Wine-A-Rita wine slushees! \nLive Music on the Patio 2-5: Acoustic Catfish \nFamily-friendly & free admission. \nTasting Room and grounds open 12-6pm. Complimentary wine tasting and wine sales available by the glass and bottle. Seating is first come\, first served (Sorry\, no reservations!). All beer and non-Mallow Run alcohol is strictly prohibited by Indiana State Law. Thank you for drinking responsibly!
URL:https://www.mallowrun.com/event/sunday-on-the-patio-acoustic-catfish-2/
LOCATION:Mallow Run Winery\, 6964 West Whiteland Road\, Bargersville\, IN\, 46106-9199
CATEGORIES:2024 Picnic Concert Series,August
ATTACH;FMTTYPE=image/png:https://www.mallowrun.com/wp-content/uploads/2024/05/Acoustic-Catfish.png
END:VEVENT
BEGIN:VEVENT
DTSTART;TZID=America/Indiana/Indianapolis:20240809T180000
DTEND;TZID=America/Indiana/Indianapolis:20240809T220000
DTSTAMP:20260421T094609
CREATED:20240628T134938Z
LAST-MODIFIED:20240628T134938Z
UID:10000135-1723226400-1723240800@www.mallowrun.com
SUMMARY:Sunset Dinner in the Vineyard at The Sycamore at Mallow Run
DESCRIPTION:FRIDAY\, August 9th\, 2024\n6:00-10:00pm \nSunset Dinner in the Vineyard\nat The Sycamore at Mallow Run\nA collaboration with Taxman and Main & Madison \nJoin us at The Sycamore at Mallow Run for a farm-to-table experience among the beautiful vineyards. Enjoy a full three course dinner paired with 2oz wine pours of Mallow Run wine\, live entertainment\, and a complimentary beverage. Additional beverages available for purchase. \nTickets: $100/per person\n21+ only \nView the full menu\, timeline\, and more information at https://www.mallowrun.com/vineyard-dinner/
URL:https://www.mallowrun.com/event/sunset-dinner-in-the-vineyard-at-the-sycamore-at-mallow-run/
LOCATION:The Sycamore at Mallow Run\, 7070 W Whiteland Road\, Bargersville\, IN\, 46106\, United States
CATEGORIES:August
END:VEVENT
BEGIN:VEVENT
DTSTART;TZID=America/Indiana/Indianapolis:20240810T120000
DTEND;TZID=America/Indiana/Indianapolis:20240810T210000
DTSTAMP:20260421T094609
CREATED:20240315T191520Z
LAST-MODIFIED:20240729T161432Z
UID:10000089-1723291200-1723323600@www.mallowrun.com
SUMMARY:2024 Picnic Concert Series: The Flying Toasters
DESCRIPTION:SATURDAY\, AUGUST 10th \nJoin us for music and wine on the lawn! Food trucks will also be lined up outside the tasting room offering a variety of delicious mobile eats. \nMusic on the Patio 12-3pm: The Sax Guy\nConcert on the Lawn 6pm: The Flying Toasters\nFree admission. Family friendly; all ages welcome! Wine tasting available until 6pm. Wine available for purchase by the glass or bottle. All beer and non-Mallow Run alcohol STRICTLY PROHIBITED by Indiana law. Thank you for drinking responsibly! \nFood Trucks Scheduled to Attend: TBD\n\nPart of the Ray Skillman Southside Hyundai 2024 Picnic Concert Series presented by Cardon & Associates\, Duke Homes\, Franciscan Alliance\, Greenwood City Lifestyle\, Hensley Legal Group\, Horizon Bank\, JC Fiber\, Steve’s Flowers\, and Sunbelt Rentals \nFind the full 2024 Picnic Concert Series Schedule HERE!
URL:https://www.mallowrun.com/event/2024-picnic-concert-series-the-flying-toasters/
LOCATION:Mallow Run Winery\, 6964 West Whiteland Road\, Bargersville\, IN\, 46106-9199
CATEGORIES:2024 Picnic Concert Series,August
ATTACH;FMTTYPE=image/jpeg:https://www.mallowrun.com/wp-content/uploads/2024/02/theflyingtoasters.jpeg
END:VEVENT
BEGIN:VEVENT
DTSTART;TZID=America/Indiana/Indianapolis:20240811T120000
DTEND;TZID=America/Indiana/Indianapolis:20240811T180000
DTSTAMP:20260421T094609
CREATED:20240729T160630Z
LAST-MODIFIED:20240729T160630Z
UID:10000146-1723377600-1723399200@www.mallowrun.com
SUMMARY:Sunday on the Patio: Checkers and Plaid
DESCRIPTION:SUNDAY August 11th\n12-6pm \nGrab a glass or bottle of wine in the tasting room and head to the patio\, a picnic table\, or bring your chairs and blankets to spread out on the lawn and enjoy great local tunes. The Shack will also be open\, serving all of our wines and frozen Wine-A-Rita wine slushees! \nLive Music on the Patio 2-5: Checkers and Plaid \nFamily-friendly & free admission. \nTasting Room and grounds open 12-6pm. Complimentary wine tasting and wine sales available by the glass and bottle. Seating is first come\, first served (Sorry\, no reservations!). All beer and non-Mallow Run alcohol is strictly prohibited by Indiana State Law. Thank you for drinking responsibly!
URL:https://www.mallowrun.com/event/sunday-on-the-patio-checkers-and-plaid/
LOCATION:Mallow Run Winery\, 6964 West Whiteland Road\, Bargersville\, IN\, 46106-9199
CATEGORIES:2024 Picnic Concert Series,August
ATTACH;FMTTYPE=image/jpeg:https://www.mallowrun.com/wp-content/uploads/2024/01/checkersandplaid.jpeg
END:VEVENT
BEGIN:VEVENT
DTSTART;TZID=America/Indiana/Indianapolis:20240814T180000
DTEND;TZID=America/Indiana/Indianapolis:20240814T200000
DTSTAMP:20260421T094609
CREATED:20240319T151817Z
LAST-MODIFIED:20240319T151828Z
UID:10000110-1723658400-1723665600@www.mallowrun.com
SUMMARY:Yoga and Wine Night
DESCRIPTION:Wednesday\, August 14th\n6-8pm \nFind peace\, strength\, clarity (and an adult beverage!) with a yoga session at The Sycamore at Mallow Run! \nJoin us at 6:30pm on August 14th for a relaxing and empowering series of yoga poses and meditation. \nRegistration is $15 and includes a full 60 minute yoga class led by certified yoga instructor\, Heather McDonald (@mcdonaldheather)\, and a glass of wine of your choice! Additional glasses will be available for purchase. Class begins at 6:30pm. The bar will be open from 6-8pm. \nParticipants are encouraged to bring their own mats and to wear comfortable clothing. \nThe Sycamore is located west of the winery at 7070 W. Whiteland Rd\, Bargersville\, IN 46106. Please take note of changes in traffic due to ongoing construction on SR 37.
URL:https://www.mallowrun.com/event/yoga-and-wine-night-4/
LOCATION:The Sycamore at Mallow Run\, 7070 W Whiteland Road\, Bargersville\, IN\, 46106\, United States
CATEGORIES:August
ATTACH;FMTTYPE=image/jpeg:https://www.mallowrun.com/wp-content/uploads/2024/03/IMG_6760-scaled.jpg
END:VEVENT
BEGIN:VEVENT
DTSTART;TZID=America/Indiana/Indianapolis:20240817T120000
DTEND;TZID=America/Indiana/Indianapolis:20240817T210000
DTSTAMP:20260421T094609
CREATED:20240315T191449Z
LAST-MODIFIED:20240729T161355Z
UID:10000090-1723896000-1723928400@www.mallowrun.com
SUMMARY:2024 Picnic Concert Series: Blue River Band
DESCRIPTION:SATURDAY\, AUGUST 17th \nJoin us for music and wine on the lawn! Food trucks will also be lined up outside the tasting room offering a variety of delicious mobile eats. \nMusic on the Patio 12-3pm: Tim Bridget\nConcert on the Lawn 6pm: Blue River Band\nFree admission. Family friendly; all ages welcome! Wine tasting available until 6pm. Wine available for purchase by the glass or bottle. All beer and non-Mallow Run alcohol STRICTLY PROHIBITED by Indiana law. Thank you for drinking responsibly! \nFood Trucks Scheduled to Attend: TBD\n\nPart of the Ray Skillman Southside Hyundai 2024 Picnic Concert Series presented by Cardon & Associates\, Duke Homes\, Franciscan Alliance\, Greenwood City Lifestyle\, Hensley Legal Group\, Horizon Bank\, JC Fiber\, Steve’s Flowers\, and Sunbelt Rentals \nFind the full 2024 Picnic Concert Series Schedule HERE!
URL:https://www.mallowrun.com/event/2024-picnic-concert-series-blue-river-band/
LOCATION:Mallow Run Winery\, 6964 West Whiteland Road\, Bargersville\, IN\, 46106-9199
CATEGORIES:2024 Picnic Concert Series,August
ATTACH;FMTTYPE=image/jpeg:https://www.mallowrun.com/wp-content/uploads/2024/02/blueriverband.jpg
END:VEVENT
BEGIN:VEVENT
DTSTART;TZID=America/Indiana/Indianapolis:20240818T120000
DTEND;TZID=America/Indiana/Indianapolis:20240818T180000
DTSTAMP:20260421T094609
CREATED:20240729T160843Z
LAST-MODIFIED:20240814T153625Z
UID:10000147-1723982400-1724004000@www.mallowrun.com
SUMMARY:Sunday on the Patio: Ben Tatum & Kelleen
DESCRIPTION:SUNDAY August 18th\n12-6pm \nGrab a glass or bottle of wine in the tasting room and head to the patio\, a picnic table\, or bring your chairs and blankets to spread out on the lawn and enjoy great local tunes. The Shack will also be open\, serving all of our wines and frozen Wine-A-Rita wine slushees! \nLive Music on the Patio 12-2pm: Ben Tatum\nLive Music on the Patio 3-6pm: Kelleen \nFamily-friendly & free admission. \nTasting Room and grounds open 12-6pm. Complimentary wine tasting and wine sales available by the glass and bottle. Seating is first come\, first served (Sorry\, no reservations!). All beer and non-Mallow Run alcohol is strictly prohibited by Indiana State Law. Thank you for drinking responsibly!
URL:https://www.mallowrun.com/event/sunday-on-the-patio-ben-tatum/
LOCATION:Mallow Run Winery\, 6964 West Whiteland Road\, Bargersville\, IN\, 46106-9199
CATEGORIES:2024 Picnic Concert Series,August
ATTACH;FMTTYPE=image/png:https://www.mallowrun.com/wp-content/uploads/2024/07/Untitled-design-7.png
END:VEVENT
BEGIN:VEVENT
DTSTART;TZID=America/Indiana/Indianapolis:20240824T190000
DTEND;TZID=America/Indiana/Indianapolis:20240824T220000
DTSTAMP:20260421T094609
CREATED:20240315T191431Z
LAST-MODIFIED:20240821T220214Z
UID:10000096-1724526000-1724536800@www.mallowrun.com
SUMMARY:2024 Picnic Concert Series: Burning Red
DESCRIPTION:Burning Red\nA show by Swifties for Swifties.\nlive on the lawn at Mallow Run Winery \nSaturday\, August 24th at 7pm\nGates open by 5:30pm | Music begins at 7pm \nEVENT IS SOLD OUT \nNo day of ticket sales will be available! \nMusic on the Patio 12-3pm: Mark Stansbury\nFood Trucks Scheduled to Attend: TBD\nPart of the Ray Skillman Southside Hyundai 2024 Picnic Concert Series presented by Cardon & Associates\, Duke Homes\, Franciscan Alliance\, Greenwood City Lifestyle\, Hensley Legal Group\, Horizon Bank\, JC Fiber\, Steve’s Flowers\, and Sunbelt Rentals \nFind the full 2024 Picnic Concert Series Schedule HERE! \nNO REFUNDS. Event is rain or shine. In the event of dangerous weather conditions your ticket can be redeemed at any concert of the 2024 Picnic Concert Series.
URL:https://www.mallowrun.com/event/2024-picnic-concert-series-burning-red/
LOCATION:Mallow Run Winery\, 6964 West Whiteland Road\, Bargersville\, IN\, 46106-9199
CATEGORIES:2024 Picnic Concert Series,August
END:VEVENT
BEGIN:VEVENT
DTSTART;TZID=America/Indiana/Indianapolis:20240825T120000
DTEND;TZID=America/Indiana/Indianapolis:20240825T180000
DTSTAMP:20260421T094609
CREATED:20240729T161140Z
LAST-MODIFIED:20240729T161140Z
UID:10000148-1724587200-1724608800@www.mallowrun.com
SUMMARY:Sunday on the Patio: John Ryan
DESCRIPTION:SUNDAY August 25th\n12-6pm \nGrab a glass or bottle of wine in the tasting room and head to the patio\, a picnic table\, or bring your chairs and blankets to spread out on the lawn and enjoy great local tunes. The Shack will also be open\, serving all of our wines and frozen Wine-A-Rita wine slushees! \nLive Music on the Patio 2-5: John Ryan \nFamily-friendly & free admission. \nTasting Room and grounds open 12-6pm. Complimentary wine tasting and wine sales available by the glass and bottle. Seating is first come\, first served (Sorry\, no reservations!). All beer and non-Mallow Run alcohol is strictly prohibited by Indiana State Law. Thank you for drinking responsibly!
URL:https://www.mallowrun.com/event/sunday-on-the-patio-john-ryan/
LOCATION:Mallow Run Winery\, 6964 West Whiteland Road\, Bargersville\, IN\, 46106-9199
CATEGORIES:2024 Picnic Concert Series,August
ATTACH;FMTTYPE=image/jpeg:https://www.mallowrun.com/wp-content/uploads/2024/01/johnryan.jpeg
END:VEVENT
BEGIN:VEVENT
DTSTART;TZID=America/Indiana/Indianapolis:20240830T173000
DTEND;TZID=America/Indiana/Indianapolis:20240830T210000
DTSTAMP:20260421T094609
CREATED:20240724T153346Z
LAST-MODIFIED:20240729T153327Z
UID:10000144-1725039000-1725051600@www.mallowrun.com
SUMMARY:Back to School - General Trivia Night
DESCRIPTION:FRIDAY\, AUGUST 30th\nIt’s time to go Back to School! Test your general knowledge and determine if you’re smarter than the teachers at The Sycamore at Mallow Run! Join us in a classic trivia competition for you and your friends with the chance to win 1 of 3 fantastic prizes! \n\n\nDoors open at 5:30pm | Trivia begins at 7:00pm | Hosted by A+ Trivia \n\n\nReserve your team’s table! Teams are made up of 2-8 people. *NOTE: Only 1 team member needs to reserve your table. In the additional notes section please list how many members are on your team.\n \n\n\nGrab a bite to eat from the onsite food truck\, Woppo’s\, and a beverage from the bar! \n\n\nThe Sycamore Bar will be open from 5:30-8:30pm with wine\, beer\, and cocktails. \nLocation: The Sycamore at Mallow Run (7070 W. Whiteland Rd\, just west of the winery – please make sure to enter on the correct driveway leading to the Sycamore\, not the winery.) \n\n\n\n\nOutside food & drink is NOT permitted\, including Mallow Run wine. Beer\, wine\, and non-alcoholic beverages will be available at the bar. Food will be available from the onsite food truck\, Woppo’s. \nCancellation policy: Cancellations are permitted with 72 hours notice. Please call (317) 422-1556 or email amy@mallowrun.com. Registrations not cancelled 72 hours in advance will be charged the full fee
URL:https://www.mallowrun.com/event/back-to-school-general-trivia-night/
LOCATION:The Sycamore at Mallow Run\, 7070 W Whiteland Road\, Bargersville\, IN\, 46106\, United States
CATEGORIES:August
END:VEVENT
BEGIN:VEVENT
DTSTART;TZID=America/Indiana/Indianapolis:20240831T120000
DTEND;TZID=America/Indiana/Indianapolis:20240831T210000
DTSTAMP:20260421T094609
CREATED:20240315T191413Z
LAST-MODIFIED:20240827T152326Z
UID:10000091-1725105600-1725138000@www.mallowrun.com
SUMMARY:19th Anniversary Festival: Endless Summer Band
DESCRIPTION:SATURDAY\, AUGUST 31st \nCelebrate 19 years of food\, music\, & wine on the lawn! Food trucks will also be lined up outside the tasting room offering a variety of delicious mobile eats. \nMusic on the Patio 12-3pm: Brett Denney\nConcert on the Lawn 6pm: Endless Summer Band\nFree admission. Family friendly; all ages welcome! Wine tasting available until 6pm. Wine available for purchase by the glass or bottle. All beer and non-Mallow Run alcohol STRICTLY PROHIBITED by Indiana law. Thank you for drinking responsibly! \nFood Trucks Scheduled to Attend: TBD\n\nPart of the Ray Skillman Southside Hyundai 2024 Picnic Concert Series presented by Cardon & Associates\, Duke Homes\, Franciscan Alliance\, Greenwood City Lifestyle\, Hensley Legal Group\, Horizon Bank\, JC Fiber\, Steve’s Flowers\, and Sunbelt Rentals \nFind the full 2024 Picnic Concert Series Schedule HERE!
URL:https://www.mallowrun.com/event/19th-anniversary-festival-endless-summer-band/
LOCATION:Mallow Run Winery\, 6964 West Whiteland Road\, Bargersville\, IN\, 46106-9199
CATEGORIES:2024 Picnic Concert Series,August
ATTACH;FMTTYPE=image/jpeg:https://www.mallowrun.com/wp-content/uploads/2024/02/endlesssummerband-e1708461792677.jpg
END:VEVENT
END:VCALENDAR