BEGIN:VCALENDAR
VERSION:2.0
PRODID:-//Mallow Run Winery - ECPv6.15.17.1//NONSGML v1.0//EN
CALSCALE:GREGORIAN
METHOD:PUBLISH
X-WR-CALNAME:Mallow Run Winery
X-ORIGINAL-URL:https://www.mallowrun.com
X-WR-CALDESC:Events for Mallow Run Winery
REFRESH-INTERVAL;VALUE=DURATION:PT1H
X-Robots-Tag:noindex
X-PUBLISHED-TTL:PT1H
BEGIN:VTIMEZONE
TZID:America/Indiana/Indianapolis
BEGIN:DAYLIGHT
TZOFFSETFROM:-0500
TZOFFSETTO:-0400
TZNAME:EDT
DTSTART:20230312T070000
END:DAYLIGHT
BEGIN:STANDARD
TZOFFSETFROM:-0400
TZOFFSETTO:-0500
TZNAME:EST
DTSTART:20231105T060000
END:STANDARD
BEGIN:DAYLIGHT
TZOFFSETFROM:-0500
TZOFFSETTO:-0400
TZNAME:EDT
DTSTART:20240310T070000
END:DAYLIGHT
BEGIN:STANDARD
TZOFFSETFROM:-0400
TZOFFSETTO:-0500
TZNAME:EST
DTSTART:20241103T060000
END:STANDARD
BEGIN:DAYLIGHT
TZOFFSETFROM:-0500
TZOFFSETTO:-0400
TZNAME:EDT
DTSTART:20250309T070000
END:DAYLIGHT
BEGIN:STANDARD
TZOFFSETFROM:-0400
TZOFFSETTO:-0500
TZNAME:EST
DTSTART:20251102T060000
END:STANDARD
END:VTIMEZONE
BEGIN:VEVENT
DTSTART;TZID=America/Indiana/Indianapolis:20241103T120000
DTEND;TZID=America/Indiana/Indianapolis:20241103T160000
DTSTAMP:20260421T164757
CREATED:20231113T205513Z
LAST-MODIFIED:20240912T192528Z
UID:10000043-1730635200-1730649600@www.mallowrun.com
SUMMARY:Handmade + Heartfelt Festival
DESCRIPTION:SUNDAY\, November 3rd\n12-4pm \nHandmade+Heartfelt Festival\ncelebrating local artists\, creators and makers \nGet your holiday shopping done early while visiting local vendors at The Sycamore at Mallow Run (7070 W. Whiteland Road\, Bargersville IN) \nCLICK HERE for more information
URL:https://www.mallowrun.com/event/27099/
LOCATION:The Sycamore at Mallow Run\, 7070 W Whiteland Road\, Bargersville\, IN\, 46106\, United States
CATEGORIES:November
END:VEVENT
BEGIN:VEVENT
DTSTART;TZID=America/Indiana/Indianapolis:20241113T180000
DTEND;TZID=America/Indiana/Indianapolis:20241113T200000
DTSTAMP:20260421T164758
CREATED:20230404T184757Z
LAST-MODIFIED:20240828T151413Z
UID:10000004-1731520800-1731528000@www.mallowrun.com
SUMMARY:Vendor Open House at the Sycamore at Mallow Run
DESCRIPTION:WEDNESDAY\nNovember 13th\, 2024\n6-8pm \nCome explore The Sycamore at Mallow Run and chat with our recommended vendors\, including caterers\, florists\, photographers\, specialty linens and rentals\, musicians\, and more! There is no cost to attend. We’d love to see you there! Let us know you’re interested in attending by RSVP-ing below. \nVendor list coming soon! \nThe Sycamore at Mallow Run is located at 7070 W. Whiteland Rd – two driveways west of the winery entrance. Look for the large wooden sign and long paved driveway! \nRSVP not necessary to attend. Family-friendly & free admission.
URL:https://www.mallowrun.com/event/vendor-open-house-at-the-sycamore-at-mallow-run/
LOCATION:The Sycamore at Mallow Run\, 7070 W Whiteland Road\, Bargersville\, IN\, 46106\, United States
CATEGORIES:November
END:VEVENT
BEGIN:VEVENT
DTSTART;TZID=America/Indiana/Indianapolis:20241115T173000
DTEND;TZID=America/Indiana/Indianapolis:20241115T210000
DTSTAMP:20260421T164758
CREATED:20241007T175052Z
LAST-MODIFIED:20241115T184615Z
UID:10000163-1731691800-1731704400@www.mallowrun.com
SUMMARY:Taylor Swift Trivia Night
DESCRIPTION:FRIDAY\, NOVEMBER 15th\nSwifties\, are you…ready for it? Gather your squad for a night of Taylor Swift Trivia on Friday\, November 15th! Test your knowledge of all things Taylor\, from her earliest hits to her latest Eras – it’s time to prove you’re the ultimate fan. Battle for a chance to win 1 of 3 fantastic prizes! \n\n💿 Doors open at 5:30pm — come early\, shake it off\, and grab your seats!\n🧠 Trivia kicks off at 7:00pm – hosted by the fabulous A+ Trivia\n🍸 Specialty cocktails for purchase — sip on Swiftie-inspired drinks that are guaranteed to make you feel fearless!\n🌮🚚 Woppo’s food truck onsite — fuel up for the trivia showdown with some delicious bites!\n\n\n\nReserve your team’s table! Teams are made up of 2-8 people. *NOTE: Only 1 team member needs to reserve your table. In the additional seating information section please list how many members are on your team. \n\n\nThe Sycamore Bar will be open from 5:30-8:30pm with wine\, beer\, and cocktails. \nLocation: The Sycamore at Mallow Run (7070 W. Whiteland Rd\, just west of the winery – please make sure to enter on the correct driveway leading to the Sycamore\, not the winery.) \n\n\n\n\nOutside food & drink is NOT permitted\, including Mallow Run wine.
URL:https://www.mallowrun.com/event/taylor-swift-trivia-night/
LOCATION:The Sycamore at Mallow Run\, 7070 W Whiteland Road\, Bargersville\, IN\, 46106\, United States
CATEGORIES:November
END:VEVENT
BEGIN:VEVENT
DTSTART;TZID=America/Indiana/Indianapolis:20241120T180000
DTEND;TZID=America/Indiana/Indianapolis:20241120T200000
DTSTAMP:20260421T164758
CREATED:20240724T150910Z
LAST-MODIFIED:20240724T150946Z
UID:10000141-1732125600-1732132800@www.mallowrun.com
SUMMARY:Yoga + Wine Night
DESCRIPTION:Wednesday\, November 20th\n6-8pm \nFind peace\, strength\, clarity (and an adult beverage!) with a yoga session at The Sycamore at Mallow Run! \nJoin us at 6:30pm on November 20th for a relaxing and empowering series of yoga poses and meditation. \nRegistration is $15 and includes a full 60 minute yoga class led by certified yoga instructor\, Heather McDonald (@mcdonaldheather)\, and a glass of wine of your choice! Additional glasses will be available for purchase. Class begins at 6:30pm. The bar will be open from 6-8pm. \nParticipants are encouraged to bring their own mats and to wear comfortable clothing. \nThe Sycamore is located west of the winery at 7070 W. Whiteland Rd\, Bargersville\, IN 46106. Please take note of changes in traffic due to ongoing construction on SR 37.
URL:https://www.mallowrun.com/event/yoga-wine-night-4/
LOCATION:The Sycamore at Mallow Run\, 7070 W Whiteland Road\, Bargersville\, IN\, 46106\, United States
CATEGORIES:November
ATTACH;FMTTYPE=image/png:https://www.mallowrun.com/wp-content/uploads/2024/03/2024-Picnic-Concert-Series-Winery-9.png
END:VEVENT
BEGIN:VEVENT
DTSTART;TZID=America/Indiana/Indianapolis:20241122T173000
DTEND;TZID=America/Indiana/Indianapolis:20241122T210000
DTSTAMP:20260421T164758
CREATED:20241007T174006Z
LAST-MODIFIED:20241025T162632Z
UID:10000162-1732296600-1732309200@www.mallowrun.com
SUMMARY:Friendsgiving Trivia Night
DESCRIPTION:FRIDAY\, NOVEMBER 22nd\nCould this BE any more exciting? Get your gang together for a night filled with laughs\, memories\, and all the Thanksgiving shenanigans from Friends! Test your knowledge on everything from Joey’s turkey mishaps to Ross’s “Moist Maker” sandwich at Friendsgiving Trivia Night on Friday\, November 22nd. Battle for a chance to win 1 of 3 fantastic prizes! \n\n🦃 Doors open at 5:30pm — come early to claim your spot (pivot\, PIVOT!)\n🧠 Trivia kicks off at 7:00pm – hosted by the fabulous A+ Trivia\n🍸 Specialty cocktails for purchase — because after a few “Rachel’s Trifle” drinks\, everything tastes great!\n🌮🚚 Woppo’s food truck onsite — because “Joey doesn’t share food!”\n\n\n\nReserve your team’s table! Teams are made up of 2-8 people. *NOTE: Only 1 team member needs to reserve your table. In the additional seating information section please list how many members are on your team. \n\n\nThe Sycamore Bar will be open from 5:30-8:30pm with wine\, beer\, and cocktails. \nLocation: The Sycamore at Mallow Run (7070 W. Whiteland Rd\, just west of the winery – please make sure to enter on the correct driveway leading to the Sycamore\, not the winery.) \n\n\n\n\nOutside food & drink is NOT permitted\, including Mallow Run wine.
URL:https://www.mallowrun.com/event/friendsgiving-trivia-night/
LOCATION:The Sycamore at Mallow Run\, 7070 W Whiteland Road\, Bargersville\, IN\, 46106\, United States
CATEGORIES:November
END:VEVENT
BEGIN:VEVENT
DTSTART;TZID=America/Indiana/Indianapolis:20241125T180000
DTEND;TZID=America/Indiana/Indianapolis:20241125T200000
DTSTAMP:20260421T164758
CREATED:20240930T160551Z
LAST-MODIFIED:20241111T131108Z
UID:10000158-1732557600-1732564800@www.mallowrun.com
SUMMARY:Thanksgiving Centerpiece Class with Critser's
DESCRIPTION:Monday\, November 25th\n6:00 PM \nCreate a festive Thanksgiving Centerpiece with our friends from Critser’s Flowers & Gifts at The Sycamore at Mallow Run! \nRegistration includes all materials needed to create your centerpiece\, plus one beverage of your choice from The Sycamore Bar. During your visit\, grab a bite to eat from onsite food truck Indy Fresh! \nCLICK HERE to learn more & register!
URL:https://www.mallowrun.com/event/thanksgiving-centerpiece-class-with-critsers/
LOCATION:The Sycamore at Mallow Run\, 7070 W Whiteland Road\, Bargersville\, IN\, 46106\, United States
CATEGORIES:November
ATTACH;FMTTYPE=image/png:https://www.mallowrun.com/wp-content/uploads/2024/11/IMG_0297.png
END:VEVENT
END:VCALENDAR