BEGIN:VCALENDAR
VERSION:2.0
PRODID:-//Mallow Run Winery - ECPv6.15.17.1//NONSGML v1.0//EN
CALSCALE:GREGORIAN
METHOD:PUBLISH
X-WR-CALNAME:Mallow Run Winery
X-ORIGINAL-URL:https://www.mallowrun.com
X-WR-CALDESC:Events for Mallow Run Winery
REFRESH-INTERVAL;VALUE=DURATION:PT1H
X-Robots-Tag:noindex
X-PUBLISHED-TTL:PT1H
BEGIN:VTIMEZONE
TZID:America/Indiana/Indianapolis
BEGIN:DAYLIGHT
TZOFFSETFROM:-0500
TZOFFSETTO:-0400
TZNAME:EDT
DTSTART:20230312T070000
END:DAYLIGHT
BEGIN:STANDARD
TZOFFSETFROM:-0400
TZOFFSETTO:-0500
TZNAME:EST
DTSTART:20231105T060000
END:STANDARD
BEGIN:DAYLIGHT
TZOFFSETFROM:-0500
TZOFFSETTO:-0400
TZNAME:EDT
DTSTART:20240310T070000
END:DAYLIGHT
BEGIN:STANDARD
TZOFFSETFROM:-0400
TZOFFSETTO:-0500
TZNAME:EST
DTSTART:20241103T060000
END:STANDARD
BEGIN:DAYLIGHT
TZOFFSETFROM:-0500
TZOFFSETTO:-0400
TZNAME:EDT
DTSTART:20250309T070000
END:DAYLIGHT
BEGIN:STANDARD
TZOFFSETFROM:-0400
TZOFFSETTO:-0500
TZNAME:EST
DTSTART:20251102T060000
END:STANDARD
END:VTIMEZONE
BEGIN:VEVENT
DTSTART;TZID=America/Indiana/Indianapolis:20241207T090000
DTEND;TZID=America/Indiana/Indianapolis:20241207T140000
DTSTAMP:20260421T182631
CREATED:20231113T212315Z
LAST-MODIFIED:20241118T132652Z
UID:10000046-1733562000-1733580000@www.mallowrun.com
SUMMARY:Pancakes with Santa
DESCRIPTION:SATURDAY\, DECEMBER 7th \nSanta is making a stop at The Sycamore at Mallow Run before the big night! \nSaturday\, December 7th\nALL SEATINGS ARE SOLD OUT \nKids of all ages are invited to join us for a delicious breakfast buffet by Sweet & Savory Catering with all the fixin’s – including pancakes\, of course! \nThere will be fun Christmas crafts for the kiddos\, live music\, and\, of course\, an appearance from Old Saint Nick! \nPsst\, Mom and Dad…the bar will be open and selling Mimosas\, Bloody Marys and specialty coffee drinks as well. \nAdult tickets $30 | Kids tickets (ages 3-15) $20 | Children 2 & under free\nReservations are required and non-refundable. \nCLICK HERE FOR MORE INFORMATION & TO PURCHASE TICKETS
URL:https://www.mallowrun.com/event/pancakeswithsanta/
LOCATION:The Sycamore at Mallow Run\, 7070 W Whiteland Road\, Bargersville\, IN\, 46106\, United States
CATEGORIES:December
ATTACH;FMTTYPE=image/jpeg:https://www.mallowrun.com/wp-content/uploads/2019/10/pancakes-with-santa.jpg
END:VEVENT
BEGIN:VEVENT
DTSTART;TZID=America/Indiana/Indianapolis:20241208T163000
DTEND;TZID=America/Indiana/Indianapolis:20241208T200000
DTSTAMP:20260421T182631
CREATED:20241115T191451Z
LAST-MODIFIED:20241115T191656Z
UID:10000172-1733675400-1733688000@www.mallowrun.com
SUMMARY:The Grinch Trivia Night
DESCRIPTION:SUNDAY\, DECEMBER 8th\nCalling all Whos down in Whoville and Grinch fans alike! It’s time to put your holiday knowledge to the test at The Grinch Trivia Night on Sunday\, December 8th covering ALL THREE FILMS (How the Grinch Stole Christmas! 1966\, How the Grinch Stole Christmas 2000\, and The Grinch 2018) Battle it out for a chance to win one of three festive prizes! \n🎅 Doors open at 4:30pm — arrive early\, grab a seat\, and get into the holiday spirit!\n🧠 Trivia starts at 6:00pm — hosted by the always-entertaining A+ Trivia!\n🍸 Specialty cocktails for purchase — enjoy Grinch-themed drinks that are sure to warm even the coldest of hearts!\n🌮🚚 Woppo’s food truck onsite — fuel up with some delicious bites while you play!\n👨‍👩‍👧‍👦 Fun for all ages — bring the whole family for a night of holiday cheer! \n\n\nReserve your team’s table! Teams are made up of 2-8 people. *NOTE: Only 1 team member needs to reserve your table. In the customer message section at checkout please list how many members are on your team. \n\n\nThe Sycamore Bar will be open from 4:30-7:30pm with wine\, beer\, and cocktails. \nLocation: The Sycamore at Mallow Run (7070 W. Whiteland Rd\, just west of the winery – please make sure to enter on the correct driveway leading to the Sycamore\, not the winery.) \n\n\n\n\nOutside food & drink is NOT permitted\, including Mallow Run wine.
URL:https://www.mallowrun.com/event/the-grinch-trivia-night/
LOCATION:The Sycamore at Mallow Run\, 7070 W Whiteland Road\, Bargersville\, IN\, 46106\, United States
CATEGORIES:December
END:VEVENT
BEGIN:VEVENT
DTSTART;TZID=America/Indiana/Indianapolis:20241210T180000
DTEND;TZID=America/Indiana/Indianapolis:20241210T200000
DTSTAMP:20260421T182631
CREATED:20240930T160815Z
LAST-MODIFIED:20241008T150702Z
UID:10000159-1733853600-1733860800@www.mallowrun.com
SUMMARY:Holiday Centerpiece Class with Critser's
DESCRIPTION:Tuesday\, December 10th\n6:00 PM \nCreate a festive Holiday Centerpiece with our friends from Critser’s Flowers & Gifts at The Sycamore at Mallow Run! \nRegistration includes all materials needed to create your centerpiece\, plus one beverage of your choice from The Sycamore Bar. During your visit\, grab a bite to eat from onsite food truck Woppo’s! \nCLICK HERE to learn more & register!
URL:https://www.mallowrun.com/event/holiday-centerpiece-class-with-critsers/
LOCATION:The Sycamore at Mallow Run\, 7070 W Whiteland Road\, Bargersville\, IN\, 46106\, United States
CATEGORIES:December
ATTACH;FMTTYPE=image/png:https://www.mallowrun.com/wp-content/uploads/2024/09/Holiday-centerpiece-example.png
END:VEVENT
BEGIN:VEVENT
DTSTART;TZID=America/Indiana/Indianapolis:20241211T180000
DTEND;TZID=America/Indiana/Indianapolis:20241211T200000
DTSTAMP:20260421T182631
CREATED:20240724T151205Z
LAST-MODIFIED:20240724T151234Z
UID:10000142-1733940000-1733947200@www.mallowrun.com
SUMMARY:Yoga + Wine Night
DESCRIPTION:Wednesday\, December 11th\n6-8pm \nFind peace\, strength\, clarity (and an adult beverage!) with a yoga session at The Sycamore at Mallow Run! \nJoin us at 6:30pm on December 11th for a relaxing and empowering series of yoga poses and meditation. \nRegistration is $15 and includes a full 60 minute yoga class led by certified yoga instructor\, Heather McDonald (@mcdonaldheather)\, and a glass of wine of your choice! Additional glasses will be available for purchase. Class begins at 6:30pm. The bar will be open from 6-8pm. \nParticipants are encouraged to bring their own mats and to wear comfortable clothing. \nThe Sycamore is located west of the winery at 7070 W. Whiteland Rd\, Bargersville\, IN 46106. Please take note of changes in traffic due to ongoing construction on SR 37.
URL:https://www.mallowrun.com/event/yoga-wine-night-5/
LOCATION:The Sycamore at Mallow Run\, 7070 W Whiteland Road\, Bargersville\, IN\, 46106\, United States
CATEGORIES:December
ATTACH;FMTTYPE=image/png:https://www.mallowrun.com/wp-content/uploads/2024/03/2024-Picnic-Concert-Series-Winery-9.png
END:VEVENT
BEGIN:VEVENT
DTSTART;TZID=America/Indiana/Indianapolis:20241214T120000
DTEND;TZID=America/Indiana/Indianapolis:20241214T180000
DTSTAMP:20260421T182631
CREATED:20241119T182858Z
LAST-MODIFIED:20241212T160226Z
UID:10000173-1734177600-1734199200@www.mallowrun.com
SUMMARY:Holiday Open House at Mallow Run Winery
DESCRIPTION:SATURDAY\, DECEMBER 14th \nThe holidays can be stressful. Reclaim the joy of the season by stopping by the winery for our Holiday Open House weekend!Free admission and all ages welcome.\n\nJoin us in our cozy tasting room or toasty enclosed patio for live music\, festive treats\, and seasonal wines! You can also check a few more people off your list by picking up some bottles of our special holiday wines\, Reindeer Red and Winter White\, picking up a gift basket (or creating your own!)\, and perusing our selection of great products\, many of them made right here in Indiana.\n\nGather your loved ones and head down to Mallow Run for a wonderful time that would warm even Scrooge’s heart.\nEnjoy festive live music on both Saturday and Sunday!Saturday: At Your Door Productions – the Dickens Carolers 3:15-4:45pmSunday: Castlewood Singers 2-5pm
URL:https://www.mallowrun.com/event/holiday-open-house-at-mallow-run-winery/
LOCATION:Mallow Run Winery\, 6964 West Whiteland Road\, Bargersville\, IN\, 46106-9199
CATEGORIES:December
ATTACH;FMTTYPE=image/jpeg:https://www.mallowrun.com/wp-content/uploads/2024/11/MR-Sign-Winter.jpeg
END:VEVENT
BEGIN:VEVENT
DTSTART;TZID=America/Indiana/Indianapolis:20241215T120000
DTEND;TZID=America/Indiana/Indianapolis:20241215T180000
DTSTAMP:20260421T182632
CREATED:20241119T183156Z
LAST-MODIFIED:20241212T161713Z
UID:10000174-1734264000-1734285600@www.mallowrun.com
SUMMARY:Holiday Open House at Mallow Run Winery
DESCRIPTION:SUNDAY\, DECEMBER 15th \nThe holidays can be stressful. Reclaim the joy of the season by stopping by the winery for our Holiday Open House weekend!Free admission and all ages welcome.\n\nJoin us in our cozy tasting room or toasty enclosed patio for live music\, festive treats\, and seasonal wines! You can also check a few more people off your list by picking up some bottles of our special holiday wines\, Reindeer Red and Winter White\, picking up a gift basket (or creating your own!)\, and perusing our selection of great products\, many of them made right here in Indiana.\n\nGather your loved ones and head down to Mallow Run for a wonderful time that would warm even Scrooge’s heart.\nEnjoy festive live music on both Saturday and Sunday!Saturday: At Your Door Productions – the Dickens Carolers 3:15-4:45pmSunday: Castlewood Singers 2-5pm
URL:https://www.mallowrun.com/event/holiday-open-house-at-mallow-run-winery-2/
LOCATION:Mallow Run Winery\, 6964 West Whiteland Road\, Bargersville\, IN\, 46106-9199
CATEGORIES:December
ATTACH;FMTTYPE=image/jpeg:https://www.mallowrun.com/wp-content/uploads/2024/11/MR-Sign-Winter.jpeg
END:VEVENT
BEGIN:VEVENT
DTSTART;TZID=America/Indiana/Indianapolis:20241220T173000
DTEND;TZID=America/Indiana/Indianapolis:20241220T210000
DTSTAMP:20260421T182632
CREATED:20241121T143252Z
LAST-MODIFIED:20241121T143400Z
UID:10000175-1734715800-1734728400@www.mallowrun.com
SUMMARY:A Christmas Story Trivia Night
DESCRIPTION:FRIDAY\, DECEMBER 20th\nOh fudge! It’s time to test your knowledge of one of the most beloved holiday classics at A Christmas Story Trivia Night! Dive into Ralphie’s world of BB guns\, pink bunny suits\, and triple-dog dares as you compete for a chance to win one of three major awards! \n🎄 Doors open at 5:30pm — arrive early\, grab a seat\, and soak in the holiday nostalgia!\n🧠 Trivia starts at 7:00pm — hosted by the always-entertaining A+ Trivia!\n🍸 Specialty cocktails for purchase — sip on A Christmas Story-themed drinks to get you in the holiday spirit!\n🌮🚚 Woppo’s food truck onsite — enjoy Tex-Mex-inspired bites while you play!\n👨‍👩‍👧‍👦 Fun for all ages — bring the whole family for a night of laughter and holiday cheer! \nIn the spirit of giving\, A Christmas Story Trivia on December 20th will include a special Leadership Johnson County fundraising opportunity. The Clark Pleasant School System has opened a K-5 alternative school\, dedicated to supporting students who face difficulties in a traditional school setting due to trauma or behavior challenges. The school’s mission is to equip students with the necessary skills to succeed academically and function well in school. One way they hope to accomplish this goal is to create an outdoor classroom which will serve as a space for the students to interact with nature\, find calming outlets to deal with stress\, and give them an experience they wouldn’t normally have in a traditional classroom. \nThe Leadership Johnson County project group\, Beyond Four Walls\, will raise funds\, provide materials\, and assist with building the outdoor area in the spring. To help with fundraising\, Mallow Run Winery will donate 50% of the proceeds from each table purchase to this project. There will be an opportunity to learn more about the project and ways you can donate during the trivia night. We appreciate your support of our local students! \nReserve your team’s table! Teams are made up of 2-8 people. *NOTE: Only 1 team member needs to reserve your table. In the customer message section at checkout please list how many members are on your team. \n\n\nThe Sycamore Bar will be open from 5:30-8:30pm with wine\, beer\, and cocktails. \nLocation: The Sycamore at Mallow Run (7070 W. Whiteland Rd\, just west of the winery – please make sure to enter on the correct driveway leading to the Sycamore\, not the winery.) \n\n\n\n\nOutside food & drink is NOT permitted\, including Mallow Run wine.
URL:https://www.mallowrun.com/event/a-christmas-story-trivia-night/
LOCATION:The Sycamore at Mallow Run\, 7070 W Whiteland Road\, Bargersville\, IN\, 46106\, United States
CATEGORIES:December
END:VEVENT
BEGIN:VEVENT
DTSTART;TZID=America/Indiana/Indianapolis:20241221T120000
DTEND;TZID=America/Indiana/Indianapolis:20241221T180000
DTSTAMP:20260421T182632
CREATED:20241203T153938Z
LAST-MODIFIED:20241203T153938Z
UID:10000178-1734782400-1734804000@www.mallowrun.com
SUMMARY:Holiday Music at Mallow Run Winery
DESCRIPTION:SATURDAY\, DECEMBER 21st \nCelebrate the Season at Mallow Run Winery with holiday shopping & festive live music! Stop in and check some folks off of your gift list with locally made wine & merchandise. During your visit\, sit back in the cozy Tasting Room or heated patio with a glass of your Mallow Run favorite and enjoy local live music! \nLive Music 2-5pm: The Wilsons \nFamily-friendly & free admission! \nAll beer & non-Mallow Run Winery strictly prohibited by Indiana State Law. Please drink responsibly!
URL:https://www.mallowrun.com/event/holiday-music-at-mallow-run-winery/
LOCATION:Mallow Run Winery\, 6964 West Whiteland Road\, Bargersville\, IN\, 46106-9199
CATEGORIES:December
ATTACH;FMTTYPE=image/jpeg:https://www.mallowrun.com/wp-content/uploads/2024/01/wilsons.jpg
END:VEVENT
BEGIN:VEVENT
DTSTART;TZID=America/Indiana/Indianapolis:20241222T120000
DTEND;TZID=America/Indiana/Indianapolis:20241222T180000
DTSTAMP:20260421T182632
CREATED:20241203T154323Z
LAST-MODIFIED:20241203T154323Z
UID:10000179-1734868800-1734890400@www.mallowrun.com
SUMMARY:Holiday Music at Mallow Run Winery
DESCRIPTION:SUNDAY\, DECEMBER 22nd \nCelebrate the Season at Mallow Run Winery with holiday shopping & festive live music! Stop in and check some folks off of your gift list with locally made wine & merchandise. During your visit\, sit back in the cozy Tasting Room or heated patio with a glass of your Mallow Run favorite and enjoy local live music! \nLive Music 2-5pm: Mark Stansbury \nFamily-friendly & free admission! \nAll beer & non-Mallow Run Winery strictly prohibited by Indiana State Law. Please drink responsibly!
URL:https://www.mallowrun.com/event/holiday-music-at-mallow-run-winery-2/
LOCATION:Mallow Run Winery\, 6964 West Whiteland Road\, Bargersville\, IN\, 46106-9199
CATEGORIES:December
ATTACH;FMTTYPE=image/png:https://www.mallowrun.com/wp-content/uploads/2024/12/MarkStansbury.png
END:VEVENT
END:VCALENDAR